BEGIN:VCALENDAR
VERSION:2.0
PRODID:-//Goldfields Health Professional Network - ECPv6.15.20//NONSGML v1.0//EN
CALSCALE:GREGORIAN
METHOD:PUBLISH
X-ORIGINAL-URL:https://www.gohpn.com.au
X-WR-CALDESC:Events for Goldfields Health Professional Network
REFRESH-INTERVAL;VALUE=DURATION:PT1H
X-Robots-Tag:noindex
X-PUBLISHED-TTL:PT1H
BEGIN:VTIMEZONE
TZID:Asia/Shanghai
BEGIN:STANDARD
TZOFFSETFROM:+0800
TZOFFSETTO:+0800
TZNAME:CST
DTSTART:20250101T000000
END:STANDARD
END:VTIMEZONE
BEGIN:VEVENT
DTSTART;TZID=Asia/Shanghai:20260213T180000
DTEND;TZID=Asia/Shanghai:20260213T193000
DTSTAMP:20260426T024516
CREATED:20260121T022812Z
LAST-MODIFIED:20260121T022812Z
UID:10001617-1771005600-1771011000@www.gohpn.com.au
SUMMARY:GOHPN - Welcome to 2026 Networking | Kalgoorlie
DESCRIPTION: 
URL:https://www.gohpn.com.au/event/gohpn-welcome-to-2026-networking-kalgoorlie-2/
LOCATION:Curtin Medical School
CATEGORIES:Health
ATTACH;FMTTYPE=image/png:https://www.gohpn.com.au/wp-content/uploads/2026/01/GOHPN_Welcome-2026_13Feb26flyer-image.png
ORGANIZER;CN="GOHPN":MAILTO:hayley.selleck@gohpn.com.au
END:VEVENT
BEGIN:VEVENT
DTSTART;TZID=Asia/Shanghai:20260218T180000
DTEND;TZID=Asia/Shanghai:20260218T190000
DTSTAMP:20260426T024516
CREATED:20260121T032150Z
LAST-MODIFIED:20260121T032150Z
UID:10001622-1771437600-1771441200@www.gohpn.com.au
SUMMARY:Refugee Health in Primary Care | Webinar
DESCRIPTION:Join us for the first webinar in a six-part series about refugee health in primary care\, presented in conjunction with WA Health. \nThe first webinar on Wednesday 18 February will provide an overview of refugee health and cover the following topics: \n\nThe global and Australian context when working with refugees\, asylum seekers and displaced people.\nThe impact of adverse experiences and social determinants of health.\nThe diversity that is present within refugee communities.\nThe role of the Humanitarian Settlement Program (HSP) provider and refugee health services in WA and how these intersect with primary care.
URL:https://www.gohpn.com.au/event/refugee-health-in-primary-care-webinar/
LOCATION:Online Webinar\, WA\, Australia
CATEGORIES:Health
ATTACH;FMTTYPE=application/pdf:https://www.gohpn.com.au/wp-content/uploads/2026/01/Refugee-Health-Webinar-One-Flyer-260113.pdf
END:VEVENT
BEGIN:VEVENT
DTSTART;TZID=Asia/Shanghai:20260224T183000
DTEND;TZID=Asia/Shanghai:20260224T203000
DTSTAMP:20260426T024516
CREATED:20260121T031244Z
LAST-MODIFIED:20260121T031244Z
UID:10001619-1771957800-1771965000@www.gohpn.com.au
SUMMARY:Managing Depression and Suicidality - GP Peer Group Learning
DESCRIPTION:Managing patient depression and suicidality in primary care \nKalgoorlie | Tuesday 24 February 2026\, 6.30pm-8.30pm \nComplex mental health cases? Let’s talk—over dinner \nJoin Dr Nicola Lauterwein and a small group of local GPs for a case-based dinner meeting focused on managing patient depression and suicidality in primary care. \n\nIn-person Q&A with a psychiatrist\nPractical strategies for complex presentations\nGreater confidence in assessment & prescribing\nUpdates on local referral pathways\nBuild your local GP mental health network\n\nRegister HERE to secure you place at the table \nVisit Rural Health West Events webpage for more event details including travel support available to Goldfield GPs.
URL:https://www.gohpn.com.au/event/managing-depression-and-suicidality-gp-peer-group-learning/
LOCATION:WA
CATEGORIES:Health
ATTACH;FMTTYPE=image/png:https://www.gohpn.com.au/wp-content/uploads/2026/01/Managing-Depression-and-Suicidality-PGL-E-Bulletin-900px.png
END:VEVENT
BEGIN:VEVENT
DTSTART;TZID=Asia/Shanghai:20260319T120000
DTEND;TZID=Asia/Shanghai:20260319T130000
DTSTAMP:20260426T024516
CREATED:20260317T063400Z
LAST-MODIFIED:20260317T063400Z
UID:10001624-1773921600-1773925200@www.gohpn.com.au
SUMMARY:WAPHA Learning | The Big 5 | Webinar
DESCRIPTION:What if supporting people’s mental health could be as straightforward as the advice we provide about diet and exercise? \nWA Primary Health Alliance and MindSpot GP invite health professionals in WA to attend our regional webinar about The Big 5 evidence-based activities that are most strongly linked to better mental health. \nThis interactive session will cover the following: \n\nA summary of the research behind The Big 5\, involving thousands of people across Australia and overseas.\n\n\nThe Big 5 evidence-based activities that people can do for better mental health.\n\n\nSimple\, practical strategies that people can use to integrate The Big 5 into their daily lives.
URL:https://www.gohpn.com.au/event/wapha-learning-the-big-5-webinar/
LOCATION:Online Webinar\, WA\, Australia
CATEGORIES:Health
ATTACH;FMTTYPE=image/png:https://www.gohpn.com.au/wp-content/uploads/2026/03/Mindspot-WAPHA.png
END:VEVENT
BEGIN:VEVENT
DTSTART;TZID=Asia/Shanghai:20260326T070000
DTEND;TZID=Asia/Shanghai:20260326T203000
DTSTAMP:20260426T024516
CREATED:20260310T004701Z
LAST-MODIFIED:20260310T004701Z
UID:10001623-1774508400-1774557000@www.gohpn.com.au
SUMMARY:GOHPN Breakfast Education Series | Musculoskeletal Chronic Condition Management | Kalgoorlie/Online
DESCRIPTION:Musculoskeletal Chronic Condition Management26 March 2026 | Kalgoorlie | 7.00am – 8.15am*Online Streaming Available*This session explores practical approaches to managing chronic musculoskeletal conditions in primary care\, with a focus on improving patient function\, participation\, and quality of life through evidence-based strategies.Presented by local physiotherapist Diane Lukasiewich\n\n\n Rural Clinical School\, Kalgoorlie Hospital Grounds. Online attendance available Light Breakfast Supplied Ticketed event | Places are limited Free for GOHPN members\n\n\nNot a member? Join for free at www.gohpn.com.au/network Enquiries: hayley.selleck@ruralhw.com.au
URL:https://www.gohpn.com.au/event/gohpn-breakfast-education-series-musculoskeletal-chronic-condition-management-kalgoorlie-online/
LOCATION:Rural Clinical School – Kalgoorlie\, Rear of Kalgoorlie Hospital\, Kalgoolrie\, WA\, 6430\, Australia
CATEGORIES:Health
ORGANIZER;CN="GOHPN":MAILTO:hayley.selleck@gohpn.com.au
END:VEVENT
BEGIN:VEVENT
DTSTART;TZID=Asia/Shanghai:20260401T180000
DTEND;TZID=Asia/Shanghai:20260401T193000
DTSTAMP:20260426T024516
CREATED:20260121T023842Z
LAST-MODIFIED:20260121T030726Z
UID:10001618-1775066400-1775071800@www.gohpn.com.au
SUMMARY:GOHPN - Chronic Wet Cough Awareness Session | Kalgoorlie
DESCRIPTION: 
URL:https://www.gohpn.com.au/event/gohpn-chronic-wet-cough-awareness-session-kalgoorlie/
LOCATION:Rural Clinical School – Kalgoorlie\, Rear of Kalgoorlie Hospital\, Kalgoolrie\, WA\, 6430\, Australia
CATEGORIES:Health
ATTACH;FMTTYPE=image/png:https://www.gohpn.com.au/wp-content/uploads/2026/01/GOHPN-Chronic-Wet-Cough-CFWA-Kalgoorlie-010426-FLYER-for-email.png
ORGANIZER;CN="GOHPN":MAILTO:hayley.selleck@gohpn.com.au
END:VEVENT
BEGIN:VEVENT
DTSTART;TZID=Asia/Shanghai:20260430T070000
DTEND;TZID=Asia/Shanghai:20260430T203000
DTSTAMP:20260426T024516
CREATED:20260415T070856Z
LAST-MODIFIED:20260415T070907Z
UID:10001625-1777532400-1777581000@www.gohpn.com.au
SUMMARY:GOHPN Breakfast Education Series | Type 2 Diabetes Care: Latest Updates & Referral Pathways | Kalgoorlie/Online
DESCRIPTION:Type 2 Diabetes Care: Latest Updates & Referral Pathways30 April 2026 | Kalgoorlie & Online | 7.00am – 8.15am\n\n\nStay up to date with the latest in Type 2 Diabetes care\, including current treatments and practical tips for everyday management. We’ll also cover referral pathways\, making it easier to connect your patients with the right support—from allied health to specialist services—for better ongoing care and outcomes.Presented by Maryanne Pannewig\, CDE RN Podiatrist.\n\n\n Rural Clinical School\, Kalgoorlie Hospital Grounds. Online attendance available Light Breakfast Supplied Ticketed event | Places are limited Free for GOHPN members\n\n\n\n\n\nNot a member? Join for free at  Enquiries: Email Hayley.Selleck@ruralhw.com.au
URL:https://www.gohpn.com.au/event/gohpn-breakfast-education-series-type-2-diabetes-care-latest-updates-referral-pathways-kalgoorlie-online/
LOCATION:Rural Clinical School – Kalgoorlie\, Rear of Kalgoorlie Hospital\, Kalgoolrie\, WA\, 6430\, Australia
CATEGORIES:Health
ORGANIZER;CN="GOHPN":MAILTO:hayley.selleck@gohpn.com.au
END:VEVENT
BEGIN:VEVENT
DTSTART;TZID=Asia/Shanghai:20260505T180000
DTEND;TZID=Asia/Shanghai:20260505T193000
DTSTAMP:20260426T024516
CREATED:20260423T023715Z
LAST-MODIFIED:20260423T023715Z
UID:10001626-1778004000-1778009400@www.gohpn.com.au
SUMMARY:Hep B Hub WA: Rethinking Hepatitis B Care in Regional and Rural Areas | Kalgoorlie
DESCRIPTION:Adam Gregson\, an experienced Hepatology Nurse Practitioner based at Royal Perth Hospital\, is leading a new community-focussed Hepatitis B program working to empower and support community and primary care clinicians in WA.\nThe service aims to help clinicians safely manage and care for people living with Hepatitis B within their communities\, without the need for referral to a hospital.\nThe event will outline this new service and seek to explore ways to make this service work best for clinicians in the Goldfields. Adam will also provide a clinical overview of Hepatitis B\, its management and address common misconceptions.\nThe Hep B Hub WA is a state-wide clinical advice service\, covering all tertiary catchments\, that provides GPs and primary care nurse practitioners with online and in-person support\, education\, and advice to manage Hepatitis B. This includes diagnostics\, therapeutics\, referrals\, and hepatocellular carcinoma (HCC) surveillance.
URL:https://www.gohpn.com.au/event/hep-b-hub-wa-rethinking-hepatitis-b-care-in-regional-and-rural-areas-kalgoorlie/
LOCATION:Rural Clinical School – Kalgoorlie\, Rear of Kalgoorlie Hospital\, Kalgoolrie\, WA\, 6430\, Australia
CATEGORIES:Health
ORGANIZER;CN="GOHPN":MAILTO:hayley.selleck@gohpn.com.au
END:VEVENT
BEGIN:VEVENT
DTSTART;TZID=Asia/Shanghai:20260520T180000
DTEND;TZID=Asia/Shanghai:20260520T210000
DTSTAMP:20260426T024516
CREATED:20260423T024159Z
LAST-MODIFIED:20260423T024159Z
UID:10001628-1779300000-1779310800@www.gohpn.com.au
SUMMARY:GOHPN & WAPHA Mindspot GP Dinner | Kalgoorlie
DESCRIPTION:The Goldfields Health Professionals Network\, in collaboration with West Australia Primary Health Alliance (WAPHA) and Mindspot GP invite our Goldfields health professionals to attend this important mental health dinner. \nWe all know how to care for our physical health – but what about our mental\nwellbeing?\nIn this 60-minute interactive session\, Professor Nick Titov shares insights from nearly 20 years of  research\, including studies with over 20\,000 Australians. Discover the “Big 5” key areas for good  mental health: meaningful activities\, healthy thinking\, goals and plans\, healthy routines\, and social  connections. \nLearn practical\, evidence-based strategies you can use every day to support your own mental health – and those around you. \nPreparation resources:\n• Watch the Big 5 introduction video HERE.\n• Visit the Big 5 website and take a look at our online quiz\, and downloadable self-assessment checklist and digital journal HERE. \nPresented by Professor Nick Titov\nNick Titov is a Professor of Psychology at Macquarie UniverStay up to date with the latest in Type 2 Diabetes care\, including current treatments and practical tips for everyday management. We’ll also cover referral pathways\, making it easier to connect your patients with the right support—from allied health to specialist services—for better ongoing care and outcomes.
URL:https://www.gohpn.com.au/event/gohpn-wapha-mindspot-gp-dinner-kalgoorlie/
LOCATION:The Overland Kalgoorlie\, 566 Hannan Street\, Kalgoorlie\, WA\, 6430\, Australia
CATEGORIES:Health
ORGANIZER;CN="GOHPN":MAILTO:hayley.selleck@gohpn.com.au
END:VEVENT
END:VCALENDAR