BEGIN:VCALENDAR
VERSION:2.0
PRODID:-//Goldfields Health Professional Network - ECPv6.15.20//NONSGML v1.0//EN
CALSCALE:GREGORIAN
METHOD:PUBLISH
X-ORIGINAL-URL:https://www.gohpn.com.au
X-WR-CALDESC:Events for Goldfields Health Professional Network
REFRESH-INTERVAL;VALUE=DURATION:PT1H
X-Robots-Tag:noindex
X-PUBLISHED-TTL:PT1H
BEGIN:VTIMEZONE
TZID:Asia/Shanghai
BEGIN:STANDARD
TZOFFSETFROM:+0800
TZOFFSETTO:+0800
TZNAME:CST
DTSTART:20180101T000000
END:STANDARD
END:VTIMEZONE
BEGIN:VEVENT
DTSTART;TZID=Asia/Shanghai:20191215T090000
DTEND;TZID=Asia/Shanghai:20191215T130000
DTSTAMP:20260420T032653
CREATED:20190819T024452Z
LAST-MODIFIED:20190819T024603Z
UID:10000752-1576400400-1576414800@www.gohpn.com.au
SUMMARY:Boulder Market Day
DESCRIPTION:Held along historic Burt Street and in Loopline Park on the third Sunday of every month.  Boulder Market Day offers a great day of family fun\, loaded with local crafts\, displays\, food stalls and entertainment.
URL:https://www.gohpn.com.au/event/boulder-market-day/2019-12-15/
LOCATION:Loopline Park\, Boulder\, 1 Burt Street\, Boulder\, WA\, 6432\, Australia
END:VEVENT
BEGIN:VEVENT
DTSTART;TZID=Asia/Shanghai:20191221T080000
DTEND;TZID=Asia/Shanghai:20191221T120000
DTSTAMP:20260420T032653
CREATED:20190819T033712Z
LAST-MODIFIED:20190819T033712Z
UID:10000772-1576915200-1576929600@www.gohpn.com.au
SUMMARY:Norseman Community Markets
DESCRIPTION:Community Markets are held on the third Saturday each month on Market Corner (Corner Roberts & Ramsay Sts) from 8am – 12pm \n 
URL:https://www.gohpn.com.au/event/norseman-community-markets/2019-12-21/
LOCATION:Market Corner\, Corner Roberts St & Ramsay St\, Norseman\, WA\, Australia
END:VEVENT
BEGIN:VEVENT
DTSTART;TZID=Asia/Shanghai:20191221T110000
DTEND;TZID=Asia/Shanghai:20191221T130000
DTSTAMP:20260420T032653
CREATED:20190819T023927Z
LAST-MODIFIED:20190819T023927Z
UID:10000745-1576926000-1576933200@www.gohpn.com.au
SUMMARY:Esperance Growers Market
DESCRIPTION:The Esperance Growers Market is a community celebration of local Esperance growers. This is a family friendly event where you have the opportunity to chat to local gardeners\, growers\, artisans and cooks\, all of whom are keen to share knowledge\, swap stories and give hints and tips about our unique area\, often stallholders will run little workshops to share their skills. The Esperance Growers Market has a strong tradition of supporting and promoting sustainability. \nThe Esperance Growers Market is set amongst the permaculture gardens in the Nulsen Primary School every second week on Saturday mornings between 11am – 1pm at Nulsen Primary School. You can follow the EGM @esperancegrowersmarket on Instagram or join this Facebook Group – Esperance Growers Market\, to stay up to date with current dates and Growers events.
URL:https://www.gohpn.com.au/event/esperance-growers-market/2019-12-21/
LOCATION:Nulsen Primary School\, Lot 665 Victoria Street\, NULSEN\, WA\, 6450\, Australia
END:VEVENT
BEGIN:VEVENT
DTSTART;TZID=Asia/Shanghai:20191222T083000
DTEND;TZID=Asia/Shanghai:20191222T130000
DTSTAMP:20260420T032653
CREATED:20190819T031439Z
LAST-MODIFIED:20190819T031709Z
UID:10000766-1577003400-1577019600@www.gohpn.com.au
SUMMARY:Esperance Community Market
DESCRIPTION:Held every second Sunday. Market stalls include Arts and Craft\, Jams\, Honeys\, fresh fruit and veggies\, ice-cream etc. Come down for lots of family fun!
URL:https://www.gohpn.com.au/event/esperance-community-market/2019-12-22/
LOCATION:Dempster St\, Esperance WA 6450\,\, Dempster St\, Esperance\, WA\, 6450\, Australia
END:VEVENT
BEGIN:VEVENT
DTSTART;TZID=Asia/Shanghai:20191227T070000
DTEND;TZID=Asia/Shanghai:20191227T080000
DTSTAMP:20260420T032653
CREATED:20190812T020938Z
LAST-MODIFIED:20190812T021304Z
UID:10000863-1577430000-1577433600@www.gohpn.com.au
SUMMARY:Obstetric Breakfast meeting
DESCRIPTION:The Obstetric Breakfast meeting is a monthly meeting\, held the 4th Friday of each month\, on the maternity ward at Kalgoorlie hospital\, and is open to any health professionals involved or interested in managing pregnant women in the Goldfields. \nLight breakfast provided.
URL:https://www.gohpn.com.au/event/obstetric-breakfast-meeting/2019-12-27/
LOCATION:Kalgoorlie Hospital – Maternity Ward\, 15 Piccadilly Street\, Kalgoorlie\, WA\, 6430\, Australia
CATEGORIES:Health
END:VEVENT
BEGIN:VEVENT
DTSTART;TZID=Asia/Shanghai:20200104T110000
DTEND;TZID=Asia/Shanghai:20200104T130000
DTSTAMP:20260420T032653
CREATED:20190819T023927Z
LAST-MODIFIED:20190819T023927Z
UID:10000746-1578135600-1578142800@www.gohpn.com.au
SUMMARY:Esperance Growers Market
DESCRIPTION:The Esperance Growers Market is a community celebration of local Esperance growers. This is a family friendly event where you have the opportunity to chat to local gardeners\, growers\, artisans and cooks\, all of whom are keen to share knowledge\, swap stories and give hints and tips about our unique area\, often stallholders will run little workshops to share their skills. The Esperance Growers Market has a strong tradition of supporting and promoting sustainability. \nThe Esperance Growers Market is set amongst the permaculture gardens in the Nulsen Primary School every second week on Saturday mornings between 11am – 1pm at Nulsen Primary School. You can follow the EGM @esperancegrowersmarket on Instagram or join this Facebook Group – Esperance Growers Market\, to stay up to date with current dates and Growers events.
URL:https://www.gohpn.com.au/event/esperance-growers-market/2020-01-04/
LOCATION:Nulsen Primary School\, Lot 665 Victoria Street\, NULSEN\, WA\, 6450\, Australia
END:VEVENT
BEGIN:VEVENT
DTSTART;TZID=Asia/Shanghai:20200105T083000
DTEND;TZID=Asia/Shanghai:20200105T130000
DTSTAMP:20260420T032653
CREATED:20190819T031439Z
LAST-MODIFIED:20190819T031709Z
UID:10000767-1578213000-1578229200@www.gohpn.com.au
SUMMARY:Esperance Community Market
DESCRIPTION:Held every second Sunday. Market stalls include Arts and Craft\, Jams\, Honeys\, fresh fruit and veggies\, ice-cream etc. Come down for lots of family fun!
URL:https://www.gohpn.com.au/event/esperance-community-market/2020-01-05/
LOCATION:Dempster St\, Esperance WA 6450\,\, Dempster St\, Esperance\, WA\, 6450\, Australia
END:VEVENT
BEGIN:VEVENT
DTSTART;TZID=Asia/Shanghai:20200117T180000
DTEND;TZID=Asia/Shanghai:20200117T203000
DTSTAMP:20260420T032653
CREATED:20200115T081525Z
LAST-MODIFIED:20200115T081525Z
UID:10001022-1579284000-1579293000@www.gohpn.com.au
SUMMARY:Goldfields Podiatry 4th Birthday
DESCRIPTION:Goldfields Podiatry are turning 4 years old and we would love to host you at our clinic to help make our day special. This is a wonderful opportunity to network across the Goldfields medical community and discuss what is important to us in 2020. \nWe have door prizes\, raffles and online competitions from Archies Thongs\, Frankie 4 Footwear\, Global Footcare and much more!
URL:https://www.gohpn.com.au/event/goldfields-podiatry-4th-birthday/
LOCATION:Goldfields Podiatry\, 5/72 Maritana Street\, Kalgoorlie\, WA\, 6430\, Australia
CATEGORIES:Health
END:VEVENT
BEGIN:VEVENT
DTSTART;TZID=Asia/Shanghai:20200118T080000
DTEND;TZID=Asia/Shanghai:20200118T120000
DTSTAMP:20260420T032653
CREATED:20190819T033712Z
LAST-MODIFIED:20190819T033712Z
UID:10000773-1579334400-1579348800@www.gohpn.com.au
SUMMARY:Norseman Community Markets
DESCRIPTION:Community Markets are held on the third Saturday each month on Market Corner (Corner Roberts & Ramsay Sts) from 8am – 12pm \n 
URL:https://www.gohpn.com.au/event/norseman-community-markets/2020-01-18/
LOCATION:Market Corner\, Corner Roberts St & Ramsay St\, Norseman\, WA\, Australia
END:VEVENT
BEGIN:VEVENT
DTSTART;TZID=Asia/Shanghai:20200118T110000
DTEND;TZID=Asia/Shanghai:20200118T130000
DTSTAMP:20260420T032653
CREATED:20190819T023927Z
LAST-MODIFIED:20190819T023927Z
UID:10000747-1579345200-1579352400@www.gohpn.com.au
SUMMARY:Esperance Growers Market
DESCRIPTION:The Esperance Growers Market is a community celebration of local Esperance growers. This is a family friendly event where you have the opportunity to chat to local gardeners\, growers\, artisans and cooks\, all of whom are keen to share knowledge\, swap stories and give hints and tips about our unique area\, often stallholders will run little workshops to share their skills. The Esperance Growers Market has a strong tradition of supporting and promoting sustainability. \nThe Esperance Growers Market is set amongst the permaculture gardens in the Nulsen Primary School every second week on Saturday mornings between 11am – 1pm at Nulsen Primary School. You can follow the EGM @esperancegrowersmarket on Instagram or join this Facebook Group – Esperance Growers Market\, to stay up to date with current dates and Growers events.
URL:https://www.gohpn.com.au/event/esperance-growers-market/2020-01-18/
LOCATION:Nulsen Primary School\, Lot 665 Victoria Street\, NULSEN\, WA\, 6450\, Australia
END:VEVENT
BEGIN:VEVENT
DTSTART;TZID=Asia/Shanghai:20200119T083000
DTEND;TZID=Asia/Shanghai:20200119T130000
DTSTAMP:20260420T032653
CREATED:20190819T031439Z
LAST-MODIFIED:20190819T031709Z
UID:10000768-1579422600-1579438800@www.gohpn.com.au
SUMMARY:Esperance Community Market
DESCRIPTION:Held every second Sunday. Market stalls include Arts and Craft\, Jams\, Honeys\, fresh fruit and veggies\, ice-cream etc. Come down for lots of family fun!
URL:https://www.gohpn.com.au/event/esperance-community-market/2020-01-19/
LOCATION:Dempster St\, Esperance WA 6450\,\, Dempster St\, Esperance\, WA\, 6450\, Australia
END:VEVENT
BEGIN:VEVENT
DTSTART;TZID=Asia/Shanghai:20200119T090000
DTEND;TZID=Asia/Shanghai:20200119T130000
DTSTAMP:20260420T032653
CREATED:20190819T024452Z
LAST-MODIFIED:20190819T024603Z
UID:10000753-1579424400-1579438800@www.gohpn.com.au
SUMMARY:Boulder Market Day
DESCRIPTION:Held along historic Burt Street and in Loopline Park on the third Sunday of every month.  Boulder Market Day offers a great day of family fun\, loaded with local crafts\, displays\, food stalls and entertainment.
URL:https://www.gohpn.com.au/event/boulder-market-day/2020-01-19/
LOCATION:Loopline Park\, Boulder\, 1 Burt Street\, Boulder\, WA\, 6432\, Australia
END:VEVENT
BEGIN:VEVENT
DTSTART;TZID=Asia/Shanghai:20200124T070000
DTEND;TZID=Asia/Shanghai:20200124T080000
DTSTAMP:20260420T032653
CREATED:20190812T020938Z
LAST-MODIFIED:20190812T021304Z
UID:10000864-1579849200-1579852800@www.gohpn.com.au
SUMMARY:Obstetric Breakfast meeting
DESCRIPTION:The Obstetric Breakfast meeting is a monthly meeting\, held the 4th Friday of each month\, on the maternity ward at Kalgoorlie hospital\, and is open to any health professionals involved or interested in managing pregnant women in the Goldfields. \nLight breakfast provided.
URL:https://www.gohpn.com.au/event/obstetric-breakfast-meeting/2020-01-24/
LOCATION:Kalgoorlie Hospital – Maternity Ward\, 15 Piccadilly Street\, Kalgoorlie\, WA\, 6430\, Australia
CATEGORIES:Health
END:VEVENT
BEGIN:VEVENT
DTSTART;TZID=Asia/Shanghai:20200210T140000
DTEND;TZID=Asia/Shanghai:20200210T150000
DTSTAMP:20260420T032653
CREATED:20191212T040228Z
LAST-MODIFIED:20191212T040311Z
UID:10001002-1581343200-1581346800@www.gohpn.com.au
SUMMARY:Diabetes Telehealth | Diabetes and travel
DESCRIPTION:Delivered by Diabetes WA through a partnership with the WA Country Health Service\, Diabetes Telehealth builds diabetes management capacity in country WA by providing regular updates for health professionals with patients living with diabetes. The upskilling is delivered via videoconferencing technology (telehealth). Every month different diabetes-related topics are comprehensively covered\, sometimes by staff within Diabetes WA\, and sometimes by guest experts. Join us for some free professional development\, in the comfort of your own workplace or home. \nDiabetes and travel: Presented by Christine Carne\, RN\, CDE\, Diabetes WA
URL:https://www.gohpn.com.au/event/diabetes-telehealth-diabetes-and-travel/
LOCATION:WA\, Australia
CATEGORIES:Health
ORGANIZER;CN="Diabetes Telehealth":MAILTO:telehealth@diabeteswa.com.au
END:VEVENT
BEGIN:VEVENT
DTSTART;TZID=Asia/Shanghai:20200213T123000
DTEND;TZID=Asia/Shanghai:20200213T133000
DTSTAMP:20260420T032653
CREATED:20200205T114134Z
LAST-MODIFIED:20200205T114134Z
UID:10001024-1581597000-1581600600@www.gohpn.com.au
SUMMARY:Telehealth Professional Education Program | Pathway to Cardiac Rehabilitation
DESCRIPTION:The February session is on ‘Pathway to Cardiac Rehabilitation’. \nRegister online here.
URL:https://www.gohpn.com.au/event/telehealth-professional-education-program-pathway-to-cardiac-rehabilitation/
LOCATION:WA\, Australia
CATEGORIES:Health
END:VEVENT
BEGIN:VEVENT
DTSTART;VALUE=DATE:20200215
DTEND;VALUE=DATE:20200217
DTSTAMP:20260420T032653
CREATED:20200109T012615Z
LAST-MODIFIED:20200109T012615Z
UID:10001018-1581724800-1581897599@www.gohpn.com.au
SUMMARY:Rural Obstetrics and Gynaecology Forum 2020
DESCRIPTION:The two day Rural GP Obstetrics and Gynaecology Forum 2020 will include lectures\, small problem based discussions\, Sim and skills stations delivered concurrently over the weekend and facilitated by experienced specialists. The forum will also provide an opportunity to network with fellow specialists\, GP Obstetricians and colleagues. \nThere is a pre-forum workshop on Friday 14 February 2020. Attendance at this workshop is mandatory if participants wish to meet WACHS credentialing guidelines. The Pre-Forum Workshop will incur an additional cost of $280 or $350 if you require one night’s accommodation. \nThis Forum is part of the WA Country Health service and Rural Health West Resident Specialist and Procedural GP Education Series. \n\n\nThe Rural Obstetrics and Gynaecology Forum is open to:\n\n\n\nGP Obstetricians\nObstetrics and Gynaecology Specialists\nGP Registrars with Advanced or Basic DRANZCOG
URL:https://www.gohpn.com.au/event/rural-obstetrics-and-gynaecology-forum-2020/
LOCATION:Pan Pacific Perth\, 207 Adelaide Terrace\, Perth\, WA\, 6000\, Australia
CATEGORIES:Health
END:VEVENT
BEGIN:VEVENT
DTSTART;TZID=Asia/Shanghai:20200219T080000
DTEND;TZID=Asia/Shanghai:20200219T170000
DTSTAMP:20260420T032653
CREATED:20200219T050156Z
LAST-MODIFIED:20200219T050156Z
UID:10001065-1582099200-1582131600@www.gohpn.com.au
SUMMARY:Sunset at the Soundshell
DESCRIPTION:Organiser:  City of Kalgoorlie-Boulder \nDate:  24th February \nTime:  6pm \nVenue:  Centennial Park \nDetails:  The Sunset of the Soundshell Concerts are free outdoor community concerts which host tribute bands from all over Australia.  The 22nd February will host The Diamonds supported by Powederkeg.  All ages & Free.
URL:https://www.gohpn.com.au/event/sunset-at-the-soundshell/
LOCATION:Centennial Park\, LOT 3426 Hannan St\, Somerville\, WA\, 6430\, Australia
END:VEVENT
BEGIN:VEVENT
DTSTART;TZID=Asia/Shanghai:20200219T083000
DTEND;TZID=Asia/Shanghai:20200219T160000
DTSTAMP:20260420T032653
CREATED:20191219T052212Z
LAST-MODIFIED:20191219T052212Z
UID:10001016-1582101000-1582128000@www.gohpn.com.au
SUMMARY:Youth Mental Health Masterclass
DESCRIPTION:Calling all youth mental health clinicians and professionals.\nThis full day\, interactive Youth Mental Health Masterclass is a rare opportunity to hear from preeminent clinicians and researchers about the latest evidence\, research and best practice for working with young people with mental health concerns. Topics include: clinical complexity\, early psychosis\, alcohol and substance abuse\, self-harm and suicide prevention. \nPresenters include:\nProfessor Pat McGorry\nInternational authority and pioneer in youth mental health and a past Australian of the Year. Professor of Youth Mental Health\, University of Melbourne\, Executive Director\, Orygen and founder of headspace. \nAssoc Professor Matt Coleman\nWA-based specialist in substance use disorders and co-occurring mental health problems. Clinical Academic and Associate Professor in Rural and Remote Mental Health Practice\, Rural Clinical School of WA. \nPlaces limited. \nProceeds to Youth Focus in support of mental health and wellbeing for young people living in regional WA.
URL:https://www.gohpn.com.au/event/youth-mental-health-masterclass/
LOCATION:Deloitte Perth\, Tower 2\, Brookfield Place\, 99 St Georges Terrace\, Perth\, WA\, 6000\, Australia
CATEGORIES:Health
END:VEVENT
BEGIN:VEVENT
DTSTART;TZID=Asia/Shanghai:20200221T083000
DTEND;TZID=Asia/Shanghai:20200221T170000
DTSTAMP:20260420T032653
CREATED:20191128T012747Z
LAST-MODIFIED:20191128T012747Z
UID:10000823-1582273800-1582304400@www.gohpn.com.au
SUMMARY:Advanced Life Support Workshop
DESCRIPTION:Facilitated by University of Western Australia\, Emergency Medicine Department\, a registered training organisation and course centre for the Australian Resuscitation Council\, this course is designed to provide health care staff with the essential knowledge and skills needed to treat and manage the deteriorating patient and those in cardio respiratory arrest. The course consists of lectures and practical simulations\, in addition\, this course will emphasise the importance of teamwork. \nOn successful completion of this course\, the Australian Resuscitation Council awards the candidate a certificate and registration card which is valid for 4 years. \nEligibility:  Medical practitioners\, nurses\, paramedics and other medical emergency practitioners \nLength: One day: 8.30am – 5.00pm \nCost: $450.00 \nAccreditation and Grant: This workshop is accredited with RACGP and ACRRM for continuing professional development points.
URL:https://www.gohpn.com.au/event/advanced-life-support-workshop/
LOCATION:Perth\, Western Australia\, Australia
CATEGORIES:Health
END:VEVENT
BEGIN:VEVENT
DTSTART;TZID=Asia/Shanghai:20200222T080000
DTEND;TZID=Asia/Shanghai:20200223T170000
DTSTAMP:20260420T032653
CREATED:20191128T013703Z
LAST-MODIFIED:20191215T233719Z
UID:10000825-1582358400-1582477200@www.gohpn.com.au
SUMMARY:Rural Emergency Medicine Forum 2020
DESCRIPTION:This forum is part of the WA Country Health Service and Rural Health West Resident Specialist and Procedural GP Education Series. \nThe one and a half day Rural Emergency Medicine Forum 2020\, will include lectures\, interactive discussions and sessions delivered concurrently and facilitated by experienced specialists.  The forum will provide an opportunity to network with fellow colleagues. \nEvent details \nDate: Saturday 22 and Sunday 23 February 2020 \nVenue: DoubleTree by Hilton Perth \nEligibility\n \n\nEmergency Doctors\nFACEM\nMedical Practitioners
URL:https://www.gohpn.com.au/event/rural-emergency-medicine-forum-2020/
LOCATION:DoubleTree by Hilton\, 100 James St\, Perth\, WA\, 6000\, Australia
CATEGORIES:Health
END:VEVENT
BEGIN:VEVENT
DTSTART;TZID=Asia/Shanghai:20200222T170000
DTEND;TZID=Asia/Shanghai:20200222T220000
DTSTAMP:20260420T032653
CREATED:20200219T045750Z
LAST-MODIFIED:20200219T045750Z
UID:10001063-1582390800-1582408800@www.gohpn.com.au
SUMMARY:Basant Festival of Kites
DESCRIPTION:
URL:https://www.gohpn.com.au/event/basant-festival-of-kites/
LOCATION:Hannans Club\, 44 Brookman St\, Kalgoorlie\, WA\, 6430\, Australia
END:VEVENT
BEGIN:VEVENT
DTSTART;VALUE=DATE:20200224
DTEND;VALUE=DATE:20200225
DTSTAMP:20260420T032653
CREATED:20200219T043655Z
LAST-MODIFIED:20200219T043655Z
UID:10001030-1582502400-1582588799@www.gohpn.com.au
SUMMARY:Lions Outback Vision Van | Laverton
DESCRIPTION:Lions Outback Vision aims to address the unique challenges of delivering quality specialist eye health care to regional\, remote and Indigenous communities across our state with the development and implementation of innovative and sustainable models of service delivery. We currently provide specialist eye health care services throughout the Pilbara\, Kimberley\, Goldfields\, Midwest and Great Southern regions of Western Australia. \nFor information on schedules or bookings contact Lions Outback Vision or 08 9381 0802 or contact your regional health clinic.
URL:https://www.gohpn.com.au/event/lions-outback-vision-van-laverton-2/
LOCATION:Laverton\, WA\, 6440\, Australia
CATEGORIES:Health
END:VEVENT
BEGIN:VEVENT
DTSTART;TZID=Asia/Shanghai:20200224T140000
DTEND;TZID=Asia/Shanghai:20200224T150000
DTSTAMP:20260420T032653
CREATED:20191212T040407Z
LAST-MODIFIED:20191212T040407Z
UID:10001003-1582552800-1582556400@www.gohpn.com.au
SUMMARY:Diabetes Telehealth | Bariatric surgery and pregnancy
DESCRIPTION:Delivered by Diabetes WA through a partnership with the WA Country Health Service\, Diabetes Telehealth builds diabetes management capacity in country WA by providing regular updates for health professionals with patients living with diabetes. The upskilling is delivered via videoconferencing technology (telehealth). Every month different diabetes-related topics are comprehensively covered\, sometimes by staff within Diabetes WA\, and sometimes by guest experts. Join us for some free professional development\, in the comfort of your own workplace or home. \nBariatric surgery and pregnancy: Presented by Dr Sivanthi Senaratne\, Obstetrician\, KEMH.
URL:https://www.gohpn.com.au/event/diabetes-telehealth-bariatric-surgery-and-pregnancy/
LOCATION:WA\, Australia
CATEGORIES:Health
ORGANIZER;CN="Diabetes Telehealth":MAILTO:telehealth@diabeteswa.com.au
END:VEVENT
BEGIN:VEVENT
DTSTART;TZID=Asia/Shanghai:20200228T070000
DTEND;TZID=Asia/Shanghai:20200228T080000
DTSTAMP:20260420T032653
CREATED:20190812T020938Z
LAST-MODIFIED:20190812T021304Z
UID:10000865-1582873200-1582876800@www.gohpn.com.au
SUMMARY:Obstetric Breakfast meeting
DESCRIPTION:The Obstetric Breakfast meeting is a monthly meeting\, held the 4th Friday of each month\, on the maternity ward at Kalgoorlie hospital\, and is open to any health professionals involved or interested in managing pregnant women in the Goldfields. \nLight breakfast provided.
URL:https://www.gohpn.com.au/event/obstetric-breakfast-meeting/2020-02-28/
LOCATION:Kalgoorlie Hospital – Maternity Ward\, 15 Piccadilly Street\, Kalgoorlie\, WA\, 6430\, Australia
CATEGORIES:Health
END:VEVENT
BEGIN:VEVENT
DTSTART;TZID=Asia/Shanghai:20200309T140000
DTEND;TZID=Asia/Shanghai:20200309T150000
DTSTAMP:20260420T032653
CREATED:20191212T040624Z
LAST-MODIFIED:20191212T040624Z
UID:10001004-1583762400-1583766000@www.gohpn.com.au
SUMMARY:Diabetes Telehealth | Back to Basics
DESCRIPTION:Delivered by Diabetes WA through a partnership with the WA Country Health Service\, Diabetes Telehealth builds diabetes management capacity in country WA by providing regular updates for health professionals with patients living with diabetes. The upskilling is delivered via videoconferencing technology (telehealth). Every month different diabetes-related topics are comprehensively covered\, sometimes by staff within Diabetes WA\, and sometimes by guest experts. Join us for some free professional development\, in the comfort of your own workplace or home. \nBack to Basics: a session on diabetes for new health professionals: Presented by Nyaree Lawler\, RN\, CDE\, Diabetes WA.
URL:https://www.gohpn.com.au/event/diabetes-telehealth-back-to-basics/
LOCATION:WA\, Australia
CATEGORIES:Health
ORGANIZER;CN="Diabetes Telehealth":MAILTO:telehealth@diabeteswa.com.au
END:VEVENT
BEGIN:VEVENT
DTSTART;TZID=Asia/Shanghai:20200310T110000
DTEND;TZID=Asia/Shanghai:20200310T130000
DTSTAMP:20260420T032653
CREATED:20200219T044756Z
LAST-MODIFIED:20200219T044756Z
UID:10001051-1583838000-1583845200@www.gohpn.com.au
SUMMARY:Understanding Autism | Kalgoorlie
DESCRIPTION:This relaxed workshop aims to provide basic yet essential information about the impact of autism on individual lives. \nWhen: Tuesday 10th March 2020\, 11am – 1pm\nWhere: Kalgoorlie-Boulder Lotteries House 42 Wilson St (cnr Wilson & McDonald St) Kalgoorlie 6433 \nIntended Participants:\nThose who currently support people with autism – families & community organisations.
URL:https://www.gohpn.com.au/event/understanding-autism-kalgoorlie/
LOCATION:Kalgoorlie-Boulder Lotteries House Assoc. Inc\, 42 Wilson St\, Kalgoorlie\, WA\, 6430\, Australia
CATEGORIES:Health
END:VEVENT
BEGIN:VEVENT
DTSTART;TZID=Asia/Shanghai:20200310T183000
DTEND;TZID=Asia/Shanghai:20200310T203000
DTSTAMP:20260420T032653
CREATED:20200219T045008Z
LAST-MODIFIED:20200219T045008Z
UID:10001052-1583865000-1583872200@www.gohpn.com.au
SUMMARY:Getting to know the NDIS – Workshop | Kalgoorlie
DESCRIPTION:This session provides information on how people with autism can access the National Disability Insurance Scheme in WA. \nWhen: Tuesday 10th March 2020\, 6.30pm – 8.30pm\nWhere: Kalgoorlie-Boulder Lotteries House 42 Wilson St (cnr Wilson & McDonald St) Kalgoorlie 6433 \nIntended Participants:\nFamilies and community members interested in learning about the NDIS.
URL:https://www.gohpn.com.au/event/getting-to-know-the-ndis-workshop-kalgoorlie/
LOCATION:Kalgoorlie-Boulder Lotteries House Assoc. Inc\, 42 Wilson St\, Kalgoorlie\, WA\, 6430\, Australia
CATEGORIES:Health
END:VEVENT
BEGIN:VEVENT
DTSTART;TZID=Asia/Shanghai:20200311T093000
DTEND;TZID=Asia/Shanghai:20200311T143000
DTSTAMP:20260420T032653
CREATED:20200219T045119Z
LAST-MODIFIED:20200219T045119Z
UID:10001054-1583919000-1583937000@www.gohpn.com.au
SUMMARY:Early Days – My Child and Autism | Kalgoorlie
DESCRIPTION:This workshop will discuss general topics about autism spectrum disorder\, such as understanding autism\, what ASD looks like for you and your family\, early intervention and how you can make a difference. \nWhen: Wednesday 11th March 2020\,\n9.30am – 2.30pm\nWhere: Kalgoorlie-Boulder Lotteries House 42 Wilson St (cnr Wilson & McDonald St) Kalgoorlie 6433 \nIntended Participants:\nParents and relatives of children with autism aged 0-6yrs.
URL:https://www.gohpn.com.au/event/early-days-my-child-and-autism-kalgoorlie/
LOCATION:Kalgoorlie-Boulder Lotteries House Assoc. Inc\, 42 Wilson St\, Kalgoorlie\, WA\, 6430\, Australia
CATEGORIES:Health
END:VEVENT
BEGIN:VEVENT
DTSTART;TZID=Asia/Shanghai:20200312T100000
DTEND;TZID=Asia/Shanghai:20200312T120000
DTSTAMP:20260420T032653
CREATED:20200219T045240Z
LAST-MODIFIED:20200219T045240Z
UID:10001056-1584007200-1584014400@www.gohpn.com.au
SUMMARY:Understanding Autism | Esperance
DESCRIPTION:This relaxed workshop aims to provide basic yet essential information about the impact of autism on individual lives. \nWhen: Thursday 12th March 2020\, 10.00am – 12.00noon\nWhere: Esperance Lotteries House Board 3 Forrest St\, Esperance WA 6450 \nIntended Participants:\nThose who currently support people with autism – families & community organisations.
URL:https://www.gohpn.com.au/event/understanding-autism-esperance/
LOCATION:Esperance Lotteries House\, 3 Forrest Street\, Esperance\, WA\, 6450\, Australia
CATEGORIES:Health
END:VEVENT
BEGIN:VEVENT
DTSTART;TZID=Asia/Shanghai:20200312T183000
DTEND;TZID=Asia/Shanghai:20200312T203000
DTSTAMP:20260420T032653
CREATED:20200219T045336Z
LAST-MODIFIED:20200219T045336Z
UID:10001058-1584037800-1584045000@www.gohpn.com.au
SUMMARY:Getting to know the NDIS – Workshop | Esperance
DESCRIPTION:This session provides information on how people with autism can access the National Disability Insurance Scheme in WA. \nWhen: Thursday 12th March 2020\, 6.30pm – 8.30pm\nWhere: Esperance Lotteries House Board 3 Forrest St\, Esperance WA 6450 \nIntended Participants:\nFamilies and community members interested\nin learning about the NDIS.
URL:https://www.gohpn.com.au/event/getting-to-know-the-ndis-workshop-esperance/
LOCATION:Esperance Lotteries House\, 3 Forrest Street\, Esperance\, WA\, 6450\, Australia
CATEGORIES:Health
END:VEVENT
END:VCALENDAR