BEGIN:VCALENDAR
VERSION:2.0
PRODID:-//Goldfields Health Professional Network - ECPv6.15.20//NONSGML v1.0//EN
CALSCALE:GREGORIAN
METHOD:PUBLISH
X-ORIGINAL-URL:https://www.gohpn.com.au
X-WR-CALDESC:Events for Goldfields Health Professional Network
REFRESH-INTERVAL;VALUE=DURATION:PT1H
X-Robots-Tag:noindex
X-PUBLISHED-TTL:PT1H
BEGIN:VTIMEZONE
TZID:Asia/Shanghai
BEGIN:STANDARD
TZOFFSETFROM:+0800
TZOFFSETTO:+0800
TZNAME:CST
DTSTART:20180101T000000
END:STANDARD
END:VTIMEZONE
BEGIN:VEVENT
DTSTART;TZID=Asia/Shanghai:20191128T183000
DTEND;TZID=Asia/Shanghai:20191201T170000
DTSTAMP:20260426T044007
CREATED:20190731T040135Z
LAST-MODIFIED:20190731T040135Z
UID:10000836-1574965800-1575219600@www.gohpn.com.au
SUMMARY:Saint Barbara's Festival
DESCRIPTION:The annual Saint Barbara’s Festival is an integral part of the annual Goldfields events calendar\, solidifying the great partnership that exists between the mining industry and the Kalgoorlie-Boulder community. \n\n\n\n\nThis year marks the Festival’s 20th\, and is sure to be a great way for locals to come together and celebrate living in Australia’s largest regional outback city!
URL:https://www.gohpn.com.au/event/saint-barbaras-festival/
LOCATION:Kalgoorlie
END:VEVENT
BEGIN:VEVENT
DTSTART;VALUE=DATE:20191203
DTEND;VALUE=DATE:20191205
DTSTAMP:20260426T044007
CREATED:20190917T063447Z
LAST-MODIFIED:20190917T063447Z
UID:10000994-1575331200-1575503999@www.gohpn.com.au
SUMMARY:STARS - Laverton
DESCRIPTION:STARS is a new course to help build knowledge\, skills and confidence to Start Talking About Relationships and Sexual Health\nwith young Aboriginal People.\n• Do you think it’s important for young people to have good information around their relationships and sexual health?\n• Does your role give you the chance to yarn with young people?\n• Do you need more knowledge and confidence to have these conversations?\n• Do you want some ideas to deal with some of the things that get in the way – like shame or worries about what other adults will say? \nSTARS might be the course for you! \nSTARS is a two day introductory course for Aboriginal community members and others working with young Aboriginal people. It is suitable a wide range of workers and volunteers\, such as health / SEWB / education / youth / family support workers\, liaison officers\, night patrol staff\, etc.\nThe course is fun\, we learn though group activities\, and do our best to make it culturally safe. Course leaders include Aboriginal Educators.  \nTopics include:\n• Bodies and puberty\n• Contraception\, pregnancy and STIs\n• LGBTI young people and diversity\n• Consent\, pleasure and effects of porn\n• Starting the conversations\n• Respectful relationships\, sexting \nGet in touch\, Nerissa Battye\, Syphilis Outbreak Response CNS\, email: nerissa.lewin@health.wa.gov.au 
URL:https://www.gohpn.com.au/event/stars-laverton/
LOCATION:Laverton Shire Hall\, Laverton\, WA\, 6440\, Australia
CATEGORIES:Health
END:VEVENT
BEGIN:VEVENT
DTSTART;TZID=Asia/Shanghai:20191207T080000
DTEND;TZID=Asia/Shanghai:20191207T170000
DTSTAMP:20260426T044007
CREATED:20190723T052651Z
LAST-MODIFIED:20190723T052651Z
UID:10000824-1575705600-1575738000@www.gohpn.com.au
SUMMARY:Trauma Skills Refresher Course | WACHS Medical Education Unit
DESCRIPTION:The one- day Trauma Refresher Skills course is designed for rural and remote doctors\, nurses and paramedics working in sites that have no dedicated trauma service and are required to provide care to the critically ill trauma patient. Facilitated by experienced interprofessional emergency medicine clinicians\, participants will have to opportunity to refresh their skills in the management of the critically ill trauma patient. Consolidating the crucial principles of trauma management through skills interactive case discussions\, participants will have the opportunity to practice and hone their skills in essential trauma procedures including vascular access\, chest drain insertion skills stations\, bringing it all together in immersive simulation scenarios.
URL:https://www.gohpn.com.au/event/trauma-skills-refresher-course-wachs-medical-education-unit/
LOCATION:Kalgoorlie
CATEGORIES:Health
END:VEVENT
BEGIN:VEVENT
DTSTART;TZID=Asia/Shanghai:20191207T110000
DTEND;TZID=Asia/Shanghai:20191207T130000
DTSTAMP:20260426T044007
CREATED:20190819T023927Z
LAST-MODIFIED:20190819T023927Z
UID:10000744-1575716400-1575723600@www.gohpn.com.au
SUMMARY:Esperance Growers Market
DESCRIPTION:The Esperance Growers Market is a community celebration of local Esperance growers. This is a family friendly event where you have the opportunity to chat to local gardeners\, growers\, artisans and cooks\, all of whom are keen to share knowledge\, swap stories and give hints and tips about our unique area\, often stallholders will run little workshops to share their skills. The Esperance Growers Market has a strong tradition of supporting and promoting sustainability. \nThe Esperance Growers Market is set amongst the permaculture gardens in the Nulsen Primary School every second week on Saturday mornings between 11am – 1pm at Nulsen Primary School. You can follow the EGM @esperancegrowersmarket on Instagram or join this Facebook Group – Esperance Growers Market\, to stay up to date with current dates and Growers events.
URL:https://www.gohpn.com.au/event/esperance-growers-market/2019-12-07/
LOCATION:Nulsen Primary School\, Lot 665 Victoria Street\, NULSEN\, WA\, 6450\, Australia
END:VEVENT
BEGIN:VEVENT
DTSTART;TZID=Asia/Shanghai:20191208T083000
DTEND;TZID=Asia/Shanghai:20191208T130000
DTSTAMP:20260426T044007
CREATED:20190819T031439Z
LAST-MODIFIED:20190819T031709Z
UID:10000765-1575793800-1575810000@www.gohpn.com.au
SUMMARY:Esperance Community Market
DESCRIPTION:Held every second Sunday. Market stalls include Arts and Craft\, Jams\, Honeys\, fresh fruit and veggies\, ice-cream etc. Come down for lots of family fun!
URL:https://www.gohpn.com.au/event/esperance-community-market/2019-12-08/
LOCATION:Dempster St\, Esperance WA 6450\,\, Dempster St\, Esperance\, WA\, 6450\, Australia
END:VEVENT
BEGIN:VEVENT
DTSTART;TZID=Asia/Shanghai:20191209T090000
DTEND;TZID=Asia/Shanghai:20191209T100000
DTSTAMP:20260426T044007
CREATED:20191128T030422Z
LAST-MODIFIED:20191128T030422Z
UID:10001001-1575882000-1575885600@www.gohpn.com.au
SUMMARY:National Drug and Alcohol Research Centre Webinar
DESCRIPTION:The Alcohol and Other Drugs Knowledge Centre is hosting a free webinar on Monday 9 December 2019 with Dr Sara Farnbach from the National Drug and Alcohol Research Centre (NDARC). \nThere are a range of barriers to accessing mental health or substance use services including stigma\, which can impact on service use by the people who need them. In addition\, healthcare workers may be unsure of how to approach discussing these concerns with clients. In this webinar\, Dr Sara Farnbach will present research findings conducted with Aboriginal men in residential treatment rehabilitation services and primary healthcare workers on speaking about substance use and depression in primary healthcare. The webinar aims to inform practice for healthcare workers who work with Aboriginal and Torres Strait Islander people in primary health care settings and provide information to researchers working around substance use and depression. \nThe webinar will run for approximately 40 minutes\, and is free to attend. There is no additional software required to join the webinar\, other than a stable internet connection. We’d recommend that you use Google Chrome to view the webinar.
URL:https://www.gohpn.com.au/event/national-drug-and-alcohol-research-centre-webinar/
LOCATION:WA\, Australia
CATEGORIES:Health
END:VEVENT
BEGIN:VEVENT
DTSTART;VALUE=DATE:20191212
DTEND;VALUE=DATE:20191218
DTSTAMP:20260426T044007
CREATED:20190723T051318Z
LAST-MODIFIED:20190723T051318Z
UID:10000815-1576108800-1576627199@www.gohpn.com.au
SUMMARY:Lions Outback Vision Van | Kalgoorlie
DESCRIPTION:Lions Outback Vision aims to address the unique challenges of delivering quality specialist eye health care to regional\, remote and Indigenous communities across our state with the development and implementation of innovative and sustainable models of service delivery. We currently provide specialist eye health care services throughout the Pilbara\, Kimberley\, Goldfields\, Midwest and Great Southern regions of Western Australia. \nFor information on schedules or bookings contact Lions Outback Vision or 08 9381 0802 or contact your regional health clinic.
URL:https://www.gohpn.com.au/event/lions-outback-vision-van-kalgoorlie-2/
LOCATION:Kalgoorlie
CATEGORIES:Health
END:VEVENT
BEGIN:VEVENT
DTSTART;TZID=Asia/Shanghai:20191215T090000
DTEND;TZID=Asia/Shanghai:20191215T130000
DTSTAMP:20260426T044007
CREATED:20190819T024452Z
LAST-MODIFIED:20190819T024603Z
UID:10000752-1576400400-1576414800@www.gohpn.com.au
SUMMARY:Boulder Market Day
DESCRIPTION:Held along historic Burt Street and in Loopline Park on the third Sunday of every month.  Boulder Market Day offers a great day of family fun\, loaded with local crafts\, displays\, food stalls and entertainment.
URL:https://www.gohpn.com.au/event/boulder-market-day/2019-12-15/
LOCATION:Loopline Park\, Boulder\, 1 Burt Street\, Boulder\, WA\, 6432\, Australia
END:VEVENT
BEGIN:VEVENT
DTSTART;TZID=Asia/Shanghai:20191221T080000
DTEND;TZID=Asia/Shanghai:20191221T120000
DTSTAMP:20260426T044007
CREATED:20190819T033712Z
LAST-MODIFIED:20190819T033712Z
UID:10000772-1576915200-1576929600@www.gohpn.com.au
SUMMARY:Norseman Community Markets
DESCRIPTION:Community Markets are held on the third Saturday each month on Market Corner (Corner Roberts & Ramsay Sts) from 8am – 12pm \n 
URL:https://www.gohpn.com.au/event/norseman-community-markets/2019-12-21/
LOCATION:Market Corner\, Corner Roberts St & Ramsay St\, Norseman\, WA\, Australia
END:VEVENT
BEGIN:VEVENT
DTSTART;TZID=Asia/Shanghai:20191221T110000
DTEND;TZID=Asia/Shanghai:20191221T130000
DTSTAMP:20260426T044007
CREATED:20190819T023927Z
LAST-MODIFIED:20190819T023927Z
UID:10000745-1576926000-1576933200@www.gohpn.com.au
SUMMARY:Esperance Growers Market
DESCRIPTION:The Esperance Growers Market is a community celebration of local Esperance growers. This is a family friendly event where you have the opportunity to chat to local gardeners\, growers\, artisans and cooks\, all of whom are keen to share knowledge\, swap stories and give hints and tips about our unique area\, often stallholders will run little workshops to share their skills. The Esperance Growers Market has a strong tradition of supporting and promoting sustainability. \nThe Esperance Growers Market is set amongst the permaculture gardens in the Nulsen Primary School every second week on Saturday mornings between 11am – 1pm at Nulsen Primary School. You can follow the EGM @esperancegrowersmarket on Instagram or join this Facebook Group – Esperance Growers Market\, to stay up to date with current dates and Growers events.
URL:https://www.gohpn.com.au/event/esperance-growers-market/2019-12-21/
LOCATION:Nulsen Primary School\, Lot 665 Victoria Street\, NULSEN\, WA\, 6450\, Australia
END:VEVENT
BEGIN:VEVENT
DTSTART;TZID=Asia/Shanghai:20191222T083000
DTEND;TZID=Asia/Shanghai:20191222T130000
DTSTAMP:20260426T044007
CREATED:20190819T031439Z
LAST-MODIFIED:20190819T031709Z
UID:10000766-1577003400-1577019600@www.gohpn.com.au
SUMMARY:Esperance Community Market
DESCRIPTION:Held every second Sunday. Market stalls include Arts and Craft\, Jams\, Honeys\, fresh fruit and veggies\, ice-cream etc. Come down for lots of family fun!
URL:https://www.gohpn.com.au/event/esperance-community-market/2019-12-22/
LOCATION:Dempster St\, Esperance WA 6450\,\, Dempster St\, Esperance\, WA\, 6450\, Australia
END:VEVENT
BEGIN:VEVENT
DTSTART;TZID=Asia/Shanghai:20191227T070000
DTEND;TZID=Asia/Shanghai:20191227T080000
DTSTAMP:20260426T044007
CREATED:20190812T020938Z
LAST-MODIFIED:20190812T021304Z
UID:10000863-1577430000-1577433600@www.gohpn.com.au
SUMMARY:Obstetric Breakfast meeting
DESCRIPTION:The Obstetric Breakfast meeting is a monthly meeting\, held the 4th Friday of each month\, on the maternity ward at Kalgoorlie hospital\, and is open to any health professionals involved or interested in managing pregnant women in the Goldfields. \nLight breakfast provided.
URL:https://www.gohpn.com.au/event/obstetric-breakfast-meeting/2019-12-27/
LOCATION:Kalgoorlie Hospital – Maternity Ward\, 15 Piccadilly Street\, Kalgoorlie\, WA\, 6430\, Australia
CATEGORIES:Health
END:VEVENT
END:VCALENDAR