BEGIN:VCALENDAR
VERSION:2.0
PRODID:-//Goldfields Health Professional Network - ECPv6.15.20//NONSGML v1.0//EN
CALSCALE:GREGORIAN
METHOD:PUBLISH
X-WR-CALNAME:Goldfields Health Professional Network
X-ORIGINAL-URL:https://www.gohpn.com.au
X-WR-CALDESC:Events for Goldfields Health Professional Network
REFRESH-INTERVAL;VALUE=DURATION:PT1H
X-Robots-Tag:noindex
X-PUBLISHED-TTL:PT1H
BEGIN:VTIMEZONE
TZID:Asia/Shanghai
BEGIN:STANDARD
TZOFFSETFROM:+0800
TZOFFSETTO:+0800
TZNAME:CST
DTSTART:20190101T000000
END:STANDARD
END:VTIMEZONE
BEGIN:VEVENT
DTSTART;TZID=Asia/Shanghai:20200907T183000
DTEND;TZID=Asia/Shanghai:20200907T193000
DTSTAMP:20260425T224243
CREATED:20200901T060309Z
LAST-MODIFIED:20200901T060309Z
UID:10000979-1599503400-1599507000@www.gohpn.com.au
SUMMARY:Dr Stephen Watson - Bariatric Surgery Information Session
DESCRIPTION:Dr Stephen Watson will be conducting a free Weight-loss Surgery information session in Kalgoorlie\, not only for patients but for all interested Health Professionals. \nDate:      September 7th\nVenue:   Railway Motel\, Prospector Room.\nTime:     6.30pm \nThe purpose of the meeting is to give information on the various surgeries for weight loss. It will also focus on the before and after care and the team involved. It will also provide information of the aftercare program with face to face or telehealth consultations\, blood tests\, dietitians and exercise physiologists. \nPlease Register Here  https://www.eventbrite.com.au/e/information-session-weight-loss-surgery-and-life-long-benefits-tickets-118407338537
URL:https://www.gohpn.com.au/event/dr-stephen-watson-bariatric-surgery-information-session/
LOCATION:The Railway Motel\, Forrest Street\, Kalgoorlie\, WA\, 6430\, Australia
CATEGORIES:Health
END:VEVENT
END:VCALENDAR