BEGIN:VCALENDAR
VERSION:2.0
PRODID:-//Goldfields Health Professional Network - ECPv6.15.20//NONSGML v1.0//EN
CALSCALE:GREGORIAN
METHOD:PUBLISH
X-ORIGINAL-URL:https://www.gohpn.com.au
X-WR-CALDESC:Events for Goldfields Health Professional Network
REFRESH-INTERVAL;VALUE=DURATION:PT1H
X-Robots-Tag:noindex
X-PUBLISHED-TTL:PT1H
BEGIN:VTIMEZONE
TZID:Asia/Shanghai
BEGIN:STANDARD
TZOFFSETFROM:+0800
TZOFFSETTO:+0800
TZNAME:CST
DTSTART:20180101T000000
END:STANDARD
END:VTIMEZONE
BEGIN:VEVENT
DTSTART;TZID=Asia/Shanghai:20191011T180000
DTEND;TZID=Asia/Shanghai:20191011T230000
DTSTAMP:20260426T001815
CREATED:20190820T053532Z
LAST-MODIFIED:20190820T053532Z
UID:10000781-1570816800-1570834800@www.gohpn.com.au
SUMMARY:Fundraiser Quiz Night; Hosted by Goldfields Rehabilitation Services Inc - Kalgoorlie.
DESCRIPTION:Goldfields Rehabilitation Services Inc. Fundraiser Quiz Night is returning! \nA sure to be fantastic\, fun-filled night of trivia\, games and laughter. We will be holding a silent auction of donated goods from local businesses\, raffles\, lucky door prizes\, spot prizes and more! \nWe will be joined by special guests “Off the Kuff” for some intermission music and music rounds. \nTables can seat 8 – 10 people and the cost per table is $200\, that’s just $20 per person! The venue is licensed and BYO is available. Patrons are also encouraged to BYO food and platters to enjoy throughout the evening. \nWhilst the aim is to raise much needed funds for our services\, we are also aiming to raise awareness in our community. Awareness of what we do and how people can access help. \nFeel free to contact the office on 9021 4732 or email sarsha.lander@grsi.org.au for any further information\, ticket purchases or if you wish to donate goods or services for the night. \nWe are all so excited for this event and can’t wait to see you there!
URL:https://www.gohpn.com.au/event/fundraiser-quiz-night-hosted-by-goldfields-rehabilitation-services-inc-kalgoorlie/
LOCATION:WMC Conference Centre\, 44 MacDonald Street\, Kalgoorlie\, WA\, 6430\, Australia
ORGANIZER;CN="Goldfields Rehabilitation Services Inc.":MAILTO:sarsha.lander@grsi.org.au
END:VEVENT
END:VCALENDAR