BEGIN:VCALENDAR
VERSION:2.0
PRODID:-//Goldfields Health Professional Network - ECPv6.15.20//NONSGML v1.0//EN
CALSCALE:GREGORIAN
METHOD:PUBLISH
X-ORIGINAL-URL:https://www.gohpn.com.au
X-WR-CALDESC:Events for Goldfields Health Professional Network
REFRESH-INTERVAL;VALUE=DURATION:PT1H
X-Robots-Tag:noindex
X-PUBLISHED-TTL:PT1H
BEGIN:VTIMEZONE
TZID:Asia/Shanghai
BEGIN:STANDARD
TZOFFSETFROM:+0800
TZOFFSETTO:+0800
TZNAME:CST
DTSTART:20210101T000000
END:STANDARD
END:VTIMEZONE
BEGIN:VEVENT
DTSTART;TZID=Asia/Shanghai:20241209T130000
DTEND;TZID=Asia/Shanghai:20241209T140000
DTSTAMP:20260423T170058
CREATED:20241205T013850Z
LAST-MODIFIED:20241205T013850Z
UID:10001535-1733749200-1733752800@www.gohpn.com.au
SUMMARY:WA Primary Health Alliance CroakeyLIVE Health Equity Heroes | Webinar
DESCRIPTION:WA Primary Health Alliance (WAPHA) are thrilled to be supporting the upcoming CroakeyLIVE Health Equity Heroes webinar\, a must-attend event for anyone passionate about advancing health equity. Featuring our CEO Learne Durrington\, and other passionate leaders\, the panel of experts will reflect on their leadership journeys and share insights on advancing health equity\, particularly in primary health care. The discussion will be moderated by Dr Tim Senior\, a GP working in an Aboriginal Community Controlled Health Organisation\, who has recently completed a related Churchill Fellowship (read more in his articles for Croakey). This #CroakeyLIVE is sponsored by the WA Primary Health Alliance as part of a Croakey project marking Medicare’s 40-year anniversary. \nPanel members include: \nLearne Durrington\, CEO of the WA Primary Health Alliance\nDr Elizabeth Deveny\, CEO of the Consumers Health Forum of Australia\nWHEN: 9 December\nTIME: 1.00pm to 2.00pm AWST\nLOCATION: Online\nCOST: Free \nREGISTER HERE
URL:https://www.gohpn.com.au/event/wa-primary-health-alliance-croakeylive-health-equity-heroes-webinar/
LOCATION:Online\, WA\, Australia
CATEGORIES:Health
ATTACH;FMTTYPE=image/png:https://www.gohpn.com.au/wp-content/uploads/2024/12/CrikeyLIVE-event_1.png
END:VEVENT
BEGIN:VEVENT
DTSTART;TZID=Asia/Shanghai:20220330T120000
DTEND;TZID=Asia/Shanghai:20220330T130000
DTSTAMP:20260423T170058
CREATED:20220324T023921Z
LAST-MODIFIED:20220324T023921Z
UID:10001372-1648641600-1648645200@www.gohpn.com.au
SUMMARY:Allied Health – COVID-19 Q&A Session
DESCRIPTION:Based on feedback from rural health professionals\, the WA Primary Health Alliance (WAPHA) is hosting an online Allied Health – COVID-19 Q&A Session. \nThis online event will include an overview of the current considerations for allied health staff working in a high caseload environment\, and an opportunity to ask those burning COVID questions. Topics covered will include:\n• Current WA COVID data\n• Test\, Trace\, Isolate\, Quarantine (TTIQ)\n• COVID Care at Home\n• GP Respiratory Clinics\n• Q&A (Questions can be submitted during registration) \nFurther details on the webinar are in the attached PDF or below: \nDate: Wednesday 30 March 2022\nTime: 12pm-1pm \nTo register\, please click here. \nPlease direct any further enquires to Nicole.Campbell@wapha.org.au \n220323_Flyer_Allied Health – COVID QA 2022_ (002)
URL:https://www.gohpn.com.au/event/allied-health-covid-19-qa-session/
LOCATION:Online\, Via Teams\, WA\, Australia
CATEGORIES:Health
END:VEVENT
END:VCALENDAR