BEGIN:VCALENDAR
VERSION:2.0
PRODID:-//Goldfields Health Professional Network - ECPv6.15.20//NONSGML v1.0//EN
CALSCALE:GREGORIAN
METHOD:PUBLISH
X-ORIGINAL-URL:https://www.gohpn.com.au
X-WR-CALDESC:Events for Goldfields Health Professional Network
REFRESH-INTERVAL;VALUE=DURATION:PT1H
X-Robots-Tag:noindex
X-PUBLISHED-TTL:PT1H
BEGIN:VTIMEZONE
TZID:Asia/Shanghai
BEGIN:STANDARD
TZOFFSETFROM:+0800
TZOFFSETTO:+0800
TZNAME:CST
DTSTART:20190101T000000
END:STANDARD
END:VTIMEZONE
BEGIN:VEVENT
DTSTART;TZID=Asia/Shanghai:20200416T123000
DTEND;TZID=Asia/Shanghai:20200416T133000
DTSTAMP:20260424T203903
CREATED:20200408T064316Z
LAST-MODIFIED:20200408T064316Z
UID:10001078-1587040200-1587043800@www.gohpn.com.au
SUMMARY:WEBINAR: How do I provide interim evidence based cardiac rehabilitation during COVID-19?
DESCRIPTION:Secondary prevention of heart disease – telehealth professional education program for country WA health professionals \nHosted by TRACS WA and the Heart Foundation \nSession 15 – Thursday 16th April \n12:30pm – 1:30pm WST \nPlease join us on the topic: ‘How do I provide interim evidence based cardiac rehabilitation during COVID-19?’ \nVC attendance only. Event dial in number: 6840 \nRegister here: http://www.subacutecare.org.au/j/index.php?option=com_chronoforms5&chronoform=EventRegistration
URL:https://www.gohpn.com.au/event/webinar-how-do-i-provide-interim-evidence-based-cardiac-rehabilitation-during-covid-19/
LOCATION:WA\, Australia
CATEGORIES:Health
END:VEVENT
END:VCALENDAR