BEGIN:VCALENDAR
VERSION:2.0
PRODID:-//Goldfields Health Professional Network - ECPv6.15.20//NONSGML v1.0//EN
CALSCALE:GREGORIAN
METHOD:PUBLISH
X-WR-CALNAME:Goldfields Health Professional Network
X-ORIGINAL-URL:https://www.gohpn.com.au
X-WR-CALDESC:Events for Goldfields Health Professional Network
REFRESH-INTERVAL;VALUE=DURATION:PT1H
X-Robots-Tag:noindex
X-PUBLISHED-TTL:PT1H
BEGIN:VTIMEZONE
TZID:Asia/Shanghai
BEGIN:STANDARD
TZOFFSETFROM:+0800
TZOFFSETTO:+0800
TZNAME:CST
DTSTART:20190101T000000
END:STANDARD
END:VTIMEZONE
BEGIN:VEVENT
DTSTART;TZID=Asia/Shanghai:20200514T190000
DTEND;TZID=Asia/Shanghai:20200514T200000
DTSTAMP:20260425T065126
CREATED:20200414T054937Z
LAST-MODIFIED:20200414T054937Z
UID:10001082-1589482800-1589486400@www.gohpn.com.au
SUMMARY:Webinar: COVID Update & Managing the COVID Positive Patient
DESCRIPTION:CPD Activity – 2 points \nDelivering the latest statistics and developments related to the COVID-19 pandemic\, this webinar will also provide guidance to clinicians on managing patients with a positive result. \nFor practitioners facing an inevitable increase in the number of patients testing COVID-19 positive\, this workshop will provide the latest management recommendations. We will discuss how to determine illness severity and clinical progression\, identifying the patient at risk of complications\, current advice on radiological testing and medications\, and ascertaining the patient who requires hospitalisation. \nDate: Thursday 14 May 2020 \nTime: 7.00-8.00 pm AWST (Perth) \nCost: Free \nRegister here.
URL:https://www.gohpn.com.au/event/webinar-covid-update-managing-the-covid-positive-patient/
LOCATION:WA\, Australia
CATEGORIES:Health
END:VEVENT
END:VCALENDAR