BEGIN:VCALENDAR
VERSION:2.0
PRODID:-//Goldfields Health Professional Network - ECPv6.15.20//NONSGML v1.0//EN
CALSCALE:GREGORIAN
METHOD:PUBLISH
X-WR-CALNAME:Goldfields Health Professional Network
X-ORIGINAL-URL:https://www.gohpn.com.au
X-WR-CALDESC:Events for Goldfields Health Professional Network
REFRESH-INTERVAL;VALUE=DURATION:PT1H
X-Robots-Tag:noindex
X-PUBLISHED-TTL:PT1H
BEGIN:VTIMEZONE
TZID:Asia/Shanghai
BEGIN:STANDARD
TZOFFSETFROM:+0800
TZOFFSETTO:+0800
TZNAME:CST
DTSTART:20190101T000000
END:STANDARD
END:VTIMEZONE
BEGIN:VEVENT
DTSTART;TZID=Asia/Shanghai:20200423T180000
DTEND;TZID=Asia/Shanghai:20200423T190000
DTSTAMP:20260424T235755
CREATED:20200423T073318Z
LAST-MODIFIED:20200423T073318Z
UID:10001127-1587664800-1587668400@www.gohpn.com.au
SUMMARY:RACGP Webinar: GP Practice Owners: Understanding a Pathology Rental Request
DESCRIPTION:Thursday 23 April 2020\n6:00pm-7:00pm \nThe COVID-19 pandemic has presented many challenges for general practices including changes to service provision. The consequential decrease in the volume of pathology tests being ordered has resulted in numerous pathology tenants demanding a substantial reduction in rent. \nThe RACGP is delivering this webinar to provide information to enable informed decisions regarding current leases. Industry experts will provide advice on rights and obligations as a landlord\, how the Code of Conduct for commercial tenancies may assist\, how to project service provision requirements for the upcoming months\, and strategies for contract discussion and negotiations. \nRegister here. \nA recording of the recent RACGP webinar ‘GP practice preparedness in a pandemic’ is also now available to view online here.
URL:https://www.gohpn.com.au/event/racgp-webinar-gp-practice-owners-understanding-a-pathology-rental-request/
LOCATION:WA\, Australia
CATEGORIES:Health
END:VEVENT
END:VCALENDAR