BEGIN:VCALENDAR
VERSION:2.0
PRODID:-//Goldfields Health Professional Network - ECPv6.15.20//NONSGML v1.0//EN
CALSCALE:GREGORIAN
METHOD:PUBLISH
X-WR-CALNAME:Goldfields Health Professional Network
X-ORIGINAL-URL:https://www.gohpn.com.au
X-WR-CALDESC:Events for Goldfields Health Professional Network
REFRESH-INTERVAL;VALUE=DURATION:PT1H
X-Robots-Tag:noindex
X-PUBLISHED-TTL:PT1H
BEGIN:VTIMEZONE
TZID:Asia/Shanghai
BEGIN:STANDARD
TZOFFSETFROM:+0800
TZOFFSETTO:+0800
TZNAME:CST
DTSTART:20190101T000000
END:STANDARD
END:VTIMEZONE
BEGIN:VEVENT
DTSTART;TZID=Asia/Shanghai:20200430T110000
DTEND;TZID=Asia/Shanghai:20200430T170000
DTSTAMP:20260425T012926
CREATED:20200424T042400Z
LAST-MODIFIED:20200424T042400Z
UID:10001129-1588244400-1588266000@www.gohpn.com.au
SUMMARY:Webinar: Are Your Patients COVID-19 Ready? Health Professional Upskilling
DESCRIPTION:Thu\, 30 April 2020\n11:00 AM – 05:00 PM \nOnline Health Professional Diabetes Upskilling with Diabetes WA. \nHear Nyaree\, credentialled diabetes educator\, discuss how to help your patients prepare for COVID19 if they are living with diabetes. She will touch on many questions patients may have already asked\, like how they can stop themselves from getting seriously ill\, how social distancing measure may affect diabetes management and how to be prepared for any COVID19 related situation that might affect diabetes management This is a recording of the webinar held for Health Professionals on 14th April 2020. Once you register below\, you will be sent an email containing the link to the recording. \nRegister here.
URL:https://www.gohpn.com.au/event/webinar-are-your-patients-covid-19-ready-health-professional-upskilling/
LOCATION:WA\, Australia
CATEGORIES:Health
END:VEVENT
END:VCALENDAR