BEGIN:VCALENDAR
VERSION:2.0
PRODID:-//Goldfields Health Professional Network - ECPv6.15.20//NONSGML v1.0//EN
CALSCALE:GREGORIAN
METHOD:PUBLISH
X-WR-CALNAME:Goldfields Health Professional Network
X-ORIGINAL-URL:https://www.gohpn.com.au
X-WR-CALDESC:Events for Goldfields Health Professional Network
REFRESH-INTERVAL;VALUE=DURATION:PT1H
X-Robots-Tag:noindex
X-PUBLISHED-TTL:PT1H
BEGIN:VTIMEZONE
TZID:Asia/Shanghai
BEGIN:STANDARD
TZOFFSETFROM:+0800
TZOFFSETTO:+0800
TZNAME:CST
DTSTART:20190101T000000
END:STANDARD
END:VTIMEZONE
BEGIN:VEVENT
DTSTART;TZID=Asia/Shanghai:20200429T100000
DTEND;TZID=Asia/Shanghai:20200429T110000
DTSTAMP:20260425T013158
CREATED:20200428T072012Z
LAST-MODIFIED:20200428T072012Z
UID:10001134-1588154400-1588158000@www.gohpn.com.au
SUMMARY:Webinar: Mental Health First Aid during COVID-19
DESCRIPTION:12:00 PM (AEST)\n29 April 2020 \nASHM’s Taskforce on BBVs\, Sexual Health and COVID-19 presents a lunchtime webinar on Mental Health First Aid during COVID-19. \nJoin Clinical Psychologist Ms Ruth Hennessy and General Practitioner Dr David Baker\, as they discuss the mental health issues raised by patients and how the healthcare worker can help patients deal with the challenges posed by COVID-19. \nRegister here.
URL:https://www.gohpn.com.au/event/webinar-mental-health-first-aid-during-covid-19/
LOCATION:WA\, Australia
CATEGORIES:Health
END:VEVENT
END:VCALENDAR