BEGIN:VCALENDAR
VERSION:2.0
PRODID:-//Goldfields Health Professional Network - ECPv6.15.20//NONSGML v1.0//EN
CALSCALE:GREGORIAN
METHOD:PUBLISH
X-WR-CALNAME:Goldfields Health Professional Network
X-ORIGINAL-URL:https://www.gohpn.com.au
X-WR-CALDESC:Events for Goldfields Health Professional Network
REFRESH-INTERVAL;VALUE=DURATION:PT1H
X-Robots-Tag:noindex
X-PUBLISHED-TTL:PT1H
BEGIN:VTIMEZONE
TZID:Asia/Shanghai
BEGIN:STANDARD
TZOFFSETFROM:+0800
TZOFFSETTO:+0800
TZNAME:CST
DTSTART:20190101T000000
END:STANDARD
END:VTIMEZONE
BEGIN:VEVENT
DTSTART;TZID=Asia/Shanghai:20200513T100000
DTEND;TZID=Asia/Shanghai:20200513T110000
DTSTAMP:20260419T210951
CREATED:20200505T032219Z
LAST-MODIFIED:20200505T032219Z
UID:10000898-1589364000-1589367600@www.gohpn.com.au
SUMMARY:Webinar: Emergency Response Networking
DESCRIPTION:13 May 2020\n10:00am-11:00am \nCome join us to hear about what Emergency Relief (ER) services are available to the community. You will hear from organisations such as The Salvation Army and St Vinnies who have been doing an astonishing amount of work in the ER space. There will also be an opportunity for you to share and learn from others in the sector and identify areas for collaboration. \nRegister here.
URL:https://www.gohpn.com.au/event/webinar-emergency-response-networking/
LOCATION:WA\, Australia
CATEGORIES:Health
END:VEVENT
END:VCALENDAR