BEGIN:VCALENDAR
VERSION:2.0
PRODID:-//Goldfields Health Professional Network - ECPv6.15.20//NONSGML v1.0//EN
CALSCALE:GREGORIAN
METHOD:PUBLISH
X-WR-CALNAME:Goldfields Health Professional Network
X-ORIGINAL-URL:https://www.gohpn.com.au
X-WR-CALDESC:Events for Goldfields Health Professional Network
REFRESH-INTERVAL;VALUE=DURATION:PT1H
X-Robots-Tag:noindex
X-PUBLISHED-TTL:PT1H
BEGIN:VTIMEZONE
TZID:Asia/Shanghai
BEGIN:STANDARD
TZOFFSETFROM:+0800
TZOFFSETTO:+0800
TZNAME:CST
DTSTART:20190101T000000
END:STANDARD
END:VTIMEZONE
BEGIN:VEVENT
DTSTART;TZID=Asia/Shanghai:20200518T080000
DTEND;TZID=Asia/Shanghai:20200518T090000
DTSTAMP:20260425T080017
CREATED:20200505T081744Z
LAST-MODIFIED:20200505T081744Z
UID:10001154-1589788800-1589792400@www.gohpn.com.au
SUMMARY:Webinar: Assisting with Childbirth - CRANAplus
DESCRIPTION:18 May 2020\n9:30am – 10:30am ACST \nPresented by Leonie McLaughlin – CRANAplus Clinical Educator\, this webinar is designed to support the remote and isolated health workforce in responding to and assisting with an unplanned birth\, and immediate post birth care of the mother and baby in the remote setting\, where no midwife or doctor is available. \nRegister here.
URL:https://www.gohpn.com.au/event/webinar-assisting-with-childbirth-cranaplus-2/
LOCATION:WA\, Australia
CATEGORIES:Health
END:VEVENT
END:VCALENDAR