BEGIN:VCALENDAR
VERSION:2.0
PRODID:-//Goldfields Health Professional Network - ECPv6.15.20//NONSGML v1.0//EN
CALSCALE:GREGORIAN
METHOD:PUBLISH
X-ORIGINAL-URL:https://www.gohpn.com.au
X-WR-CALDESC:Events for Goldfields Health Professional Network
REFRESH-INTERVAL;VALUE=DURATION:PT1H
X-Robots-Tag:noindex
X-PUBLISHED-TTL:PT1H
BEGIN:VTIMEZONE
TZID:Asia/Shanghai
BEGIN:STANDARD
TZOFFSETFROM:+0800
TZOFFSETTO:+0800
TZNAME:CST
DTSTART:20190101T000000
END:STANDARD
END:VTIMEZONE
BEGIN:VEVENT
DTSTART;TZID=Asia/Shanghai:20200707T180000
DTEND;TZID=Asia/Shanghai:20200707T190000
DTSTAMP:20260425T182852
CREATED:20200626T070046Z
LAST-MODIFIED:20200626T070046Z
UID:10000960-1594144800-1594148400@www.gohpn.com.au
SUMMARY:ACRRM and RDAA webinar: Reducing Opioid Harm- Pain Management
DESCRIPTION:Tuesday 7 July 2020\n8:00pm AEST (6.00pm WST). \nThe Department of Health through the Theraputic Goods Administration (TGA) is continuing to implement a number of regulatory changes to reduce the harm caused by opioid prescription medicines to Australians. The webinar will discuss reducing opioid harm in relation to pain management. \nRegister here.
URL:https://www.gohpn.com.au/event/acrrm-and-rdaa-webinar-reducing-opioid-harm-pain-management/
LOCATION:WA\, Australia
CATEGORIES:Health
END:VEVENT
END:VCALENDAR