BEGIN:VCALENDAR
VERSION:2.0
PRODID:-//Goldfields Health Professional Network - ECPv6.15.20//NONSGML v1.0//EN
CALSCALE:GREGORIAN
METHOD:PUBLISH
X-ORIGINAL-URL:https://www.gohpn.com.au
X-WR-CALDESC:Events for Goldfields Health Professional Network
REFRESH-INTERVAL;VALUE=DURATION:PT1H
X-Robots-Tag:noindex
X-PUBLISHED-TTL:PT1H
BEGIN:VTIMEZONE
TZID:Asia/Shanghai
BEGIN:STANDARD
TZOFFSETFROM:+0800
TZOFFSETTO:+0800
TZNAME:CST
DTSTART:20190101T000000
END:STANDARD
END:VTIMEZONE
BEGIN:VEVENT
DTSTART;TZID=Asia/Shanghai:20200702T173000
DTEND;TZID=Asia/Shanghai:20200702T183000
DTSTAMP:20260425T182827
CREATED:20200626T070304Z
LAST-MODIFIED:20200626T070304Z
UID:10000961-1593711000-1593714600@www.gohpn.com.au
SUMMARY:RACGP Rural Health Webinar Series - Palpitations: An Acute Care Approach
DESCRIPTION:2 July 2020\n07:30 PM AEST (5:30PM WST) \nThis instalment of the RACGP Rural Health Webinar Series will explore the assessment and management of palpitations\, one of the most common reasons for patients to present to general practice and emergency departments\, and the second most common condition dealt with by cardiologists. Through a general overview and discussion of common case presentations\, participants will develop a structured and safe approach to identify and manage the serious cases of palpitations from the benign. \nRegister here.
URL:https://www.gohpn.com.au/event/racgp-rural-health-webinar-series-palpitations-an-acute-care-approach/
LOCATION:WA\, Australia
CATEGORIES:Health
END:VEVENT
END:VCALENDAR