BEGIN:VCALENDAR
VERSION:2.0
PRODID:-//Goldfields Health Professional Network - ECPv6.15.20//NONSGML v1.0//EN
CALSCALE:GREGORIAN
METHOD:PUBLISH
X-WR-CALNAME:Goldfields Health Professional Network
X-ORIGINAL-URL:https://www.gohpn.com.au
X-WR-CALDESC:Events for Goldfields Health Professional Network
REFRESH-INTERVAL;VALUE=DURATION:PT1H
X-Robots-Tag:noindex
X-PUBLISHED-TTL:PT1H
BEGIN:VTIMEZONE
TZID:Asia/Shanghai
BEGIN:STANDARD
TZOFFSETFROM:+0800
TZOFFSETTO:+0800
TZNAME:CST
DTSTART:20190101T000000
END:STANDARD
END:VTIMEZONE
BEGIN:VEVENT
DTSTART;TZID=Asia/Shanghai:20200721T160000
DTEND;TZID=Asia/Shanghai:20200721T170000
DTSTAMP:20260425T183343
CREATED:20200709T045259Z
LAST-MODIFIED:20200709T045259Z
UID:10001238-1595347200-1595350800@www.gohpn.com.au
SUMMARY:Webinar: Keep Calm & Carry On : Lessons Learnt from Corona Virus Response (CRANAplus)
DESCRIPTION:21st Jul 2020\n6:00pm – 7:00pm AEST \nLeading a network incident command centre\, with oversight of 100 COVID-19 positive admitted patients\, Shane and Kathryn share what they have learnt on healthcare disaster preparation and response and its application in the remote and isolated workplace setting. \nRegister here.
URL:https://www.gohpn.com.au/event/webinar-keep-calm-carry-on-lessons-learnt-from-corona-virus-response-cranaplus/
LOCATION:WA\, Australia
CATEGORIES:Health
END:VEVENT
END:VCALENDAR