BEGIN:VCALENDAR
VERSION:2.0
PRODID:-//Goldfields Health Professional Network - ECPv6.15.20//NONSGML v1.0//EN
CALSCALE:GREGORIAN
METHOD:PUBLISH
X-ORIGINAL-URL:https://www.gohpn.com.au
X-WR-CALDESC:Events for Goldfields Health Professional Network
REFRESH-INTERVAL;VALUE=DURATION:PT1H
X-Robots-Tag:noindex
X-PUBLISHED-TTL:PT1H
BEGIN:VTIMEZONE
TZID:Asia/Shanghai
BEGIN:STANDARD
TZOFFSETFROM:+0800
TZOFFSETTO:+0800
TZNAME:CST
DTSTART:20190101T000000
END:STANDARD
END:VTIMEZONE
BEGIN:VEVENT
DTSTART;TZID=Asia/Shanghai:20200920T080000
DTEND;TZID=Asia/Shanghai:20200920T170000
DTSTAMP:20260420T230834
CREATED:20200709T074001Z
LAST-MODIFIED:20200709T074001Z
UID:10001242-1600588800-1600621200@www.gohpn.com.au
SUMMARY:Coolgardie Day
DESCRIPTION:Sep 20th\, 2020\n8:00am – 17:00pm \nFamily fun day out in the park\, lots of free entertainment\, food stalls\, side show alley\, live music\, street parade\, market stalls\, dump truck display\, free bus service running from Kalgoorlie to Coolgardie and return all day plus much much more. \nFor information visit www.coolgardieday.com.au
URL:https://www.gohpn.com.au/event/coolgardie-day/
LOCATION:WA\, Australia
END:VEVENT
END:VCALENDAR