BEGIN:VCALENDAR
VERSION:2.0
PRODID:-//Goldfields Health Professional Network - ECPv6.15.20//NONSGML v1.0//EN
CALSCALE:GREGORIAN
METHOD:PUBLISH
X-ORIGINAL-URL:https://www.gohpn.com.au
X-WR-CALDESC:Events for Goldfields Health Professional Network
REFRESH-INTERVAL;VALUE=DURATION:PT1H
X-Robots-Tag:noindex
X-PUBLISHED-TTL:PT1H
BEGIN:VTIMEZONE
TZID:Asia/Shanghai
BEGIN:STANDARD
TZOFFSETFROM:+0800
TZOFFSETTO:+0800
TZNAME:CST
DTSTART:20190101T000000
END:STANDARD
END:VTIMEZONE
BEGIN:VEVENT
DTSTART;TZID=Asia/Shanghai:20200730T180000
DTEND;TZID=Asia/Shanghai:20200730T190000
DTSTAMP:20260425T195734
CREATED:20200716T012512Z
LAST-MODIFIED:20200716T012512Z
UID:10000964-1596132000-1596135600@www.gohpn.com.au
SUMMARY:Webinar: Using digital health technology in allied health care
DESCRIPTION:Thursday\, 30 July 2020\n6:00-7:00pm AWST  (8:00-9:00pm AEST) \nThe Australian Digital Health Agency in collaboration with WA Primary Health Alliance and Allied Health Professions Australia is pleased to be hosting a webinar for allied healthcare professionals. \nThis webinar has been tailored specifically for allied healthcare professionals and will include a panel discussion with representatives sharing their experiences with using digital health technology. Attendees will also have the opportunity to ask questions. Topics covered in this session will include: \n\nUsing technology to enhance business and improve levels of care\nIntegrate telehealth\, My Health Record and secure messaging into normal practice\nImprove patient access and outcomes with health technology\nUnderstand how digital health tools can increase referrer engagement and service demand\n\nPlease click here to register.
URL:https://www.gohpn.com.au/event/webinar-using-digital-health-technology-in-allied-health-care/
LOCATION:WA\, Australia
CATEGORIES:Health
END:VEVENT
END:VCALENDAR