BEGIN:VCALENDAR
VERSION:2.0
PRODID:-//Goldfields Health Professional Network - ECPv6.15.20//NONSGML v1.0//EN
CALSCALE:GREGORIAN
METHOD:PUBLISH
X-WR-CALNAME:Goldfields Health Professional Network
X-ORIGINAL-URL:https://www.gohpn.com.au
X-WR-CALDESC:Events for Goldfields Health Professional Network
REFRESH-INTERVAL;VALUE=DURATION:PT1H
X-Robots-Tag:noindex
X-PUBLISHED-TTL:PT1H
BEGIN:VTIMEZONE
TZID:Asia/Shanghai
BEGIN:STANDARD
TZOFFSETFROM:+0800
TZOFFSETTO:+0800
TZNAME:CST
DTSTART:20190101T000000
END:STANDARD
END:VTIMEZONE
BEGIN:VEVENT
DTSTART;TZID=Asia/Shanghai:20200831T153000
DTEND;TZID=Asia/Shanghai:20200831T163000
DTSTAMP:20260425T212153
CREATED:20200720T074400Z
LAST-MODIFIED:20200720T074400Z
UID:10000968-1598887800-1598891400@www.gohpn.com.au
SUMMARY:Webinar: Crisis Leadership - Lessons from COVID-19
DESCRIPTION:Monday 31 August 2020\n5.30-6.30pm AEST \nInternational guest speaker: Professor Ivy Ng\nGroup Chief Executive Officer\, Singapore Health Services Pte Ltd (SingHealth) \nFREE to attend for ACHSM members\, registration essential. \nACHSM is pleased to welcome Professor Ivy Ng\, the CEO of Sing Health Singapore’s largest health service cluster to this live webcast event. Professor Ng was appointed Group Chief Executive Officer of SingHealth in 2012 and prior to SingHealth\, she was the CEO of the KK Women’s & Children’s Hospital\, Singapore and Deputy Group CEO of SingHealth. \nProfessor Ng will be speaking about some of the lessons learned from the COVID-19 pandemic and what leadership means in a crisis. \nFollowing the main presentation will be a live Q&A session\, so get your questions ready! \nRegistration fee inc GST\nSingle ACHSM Member: FREE to attend\, registration essential\nSingle non-member $50\nGroup 15 and under $99\nGroup 15+ $199 \nProgram:\n5mins Introduction\n30mins Guest speaker presentation\n15mins Live Q&A\n5mins Thank you\, event concludes \nCan’t make it to the live event? Register for a ticket and watch the recorded version on demand\, the link will be sent to you after the event has ended. \nREGISTER HERE. \nEnquiries:\nErica Jones\, ACHSM National PD & Events Coordinator\n02 8753 5124 or events@achsm.org.au
URL:https://www.gohpn.com.au/event/webinar-crisis-leadership-lessons-from-covid-19/
LOCATION:WA\, Australia
CATEGORIES:Health
END:VEVENT
END:VCALENDAR