BEGIN:VCALENDAR
VERSION:2.0
PRODID:-//Goldfields Health Professional Network - ECPv6.15.20//NONSGML v1.0//EN
CALSCALE:GREGORIAN
METHOD:PUBLISH
X-WR-CALNAME:Goldfields Health Professional Network
X-ORIGINAL-URL:https://www.gohpn.com.au
X-WR-CALDESC:Events for Goldfields Health Professional Network
REFRESH-INTERVAL;VALUE=DURATION:PT1H
X-Robots-Tag:noindex
X-PUBLISHED-TTL:PT1H
BEGIN:VTIMEZONE
TZID:Asia/Shanghai
BEGIN:STANDARD
TZOFFSETFROM:+0800
TZOFFSETTO:+0800
TZNAME:CST
DTSTART:20190101T000000
END:STANDARD
END:VTIMEZONE
BEGIN:VEVENT
DTSTART;TZID=Asia/Shanghai:20200811T190000
DTEND;TZID=Asia/Shanghai:20200811T200000
DTSTAMP:20260425T211104
CREATED:20200721T005720Z
LAST-MODIFIED:20200721T005720Z
UID:10000969-1597172400-1597176000@www.gohpn.com.au
SUMMARY:RACGP webinar: Paediatric dermatology – Birthmarks
DESCRIPTION:Tuesday 11 August\n7.00–8.00 pm AWST \nThis webinar explores how to distinguish high-risk birthmark features correctly. This webinar provides a classification framework to assist in accurate differentiation and diagnosis\, current treatment recommendations and ongoing management and monitoring requirements. \nRegister here.
URL:https://www.gohpn.com.au/event/racgp-webinar-paediatric-dermatology-birthmarks/
LOCATION:WA\, Australia
CATEGORIES:Health
END:VEVENT
END:VCALENDAR