BEGIN:VCALENDAR
VERSION:2.0
PRODID:-//Goldfields Health Professional Network - ECPv6.15.20//NONSGML v1.0//EN
CALSCALE:GREGORIAN
METHOD:PUBLISH
X-ORIGINAL-URL:https://www.gohpn.com.au
X-WR-CALDESC:Events for Goldfields Health Professional Network
REFRESH-INTERVAL;VALUE=DURATION:PT1H
X-Robots-Tag:noindex
X-PUBLISHED-TTL:PT1H
BEGIN:VTIMEZONE
TZID:Asia/Shanghai
BEGIN:STANDARD
TZOFFSETFROM:+0800
TZOFFSETTO:+0800
TZNAME:CST
DTSTART:20190101T000000
END:STANDARD
END:VTIMEZONE
BEGIN:VEVENT
DTSTART;TZID=Asia/Shanghai:20200910T190000
DTEND;TZID=Asia/Shanghai:20200910T200000
DTSTAMP:20260425T224339
CREATED:20200721T010923Z
LAST-MODIFIED:20200721T010923Z
UID:10000970-1599764400-1599768000@www.gohpn.com.au
SUMMARY:RACGP webinar: Understanding teenage boys
DESCRIPTION:Thursday 10 September\n7.00–8.00 pm AWST \nThis webinar explores strategies GPs can share with parents to support their teenage boys. It covers the developmental stages and associated behaviours\, navigating the unexpected\, and strategies for parents to help their boys grow into healthy and happy individuals. \nRegister here.
URL:https://www.gohpn.com.au/event/racgp-webinar-understanding-teenage-boys/
LOCATION:WA\, Australia
CATEGORIES:Health
END:VEVENT
END:VCALENDAR