BEGIN:VCALENDAR
VERSION:2.0
PRODID:-//Goldfields Health Professional Network - ECPv6.15.20//NONSGML v1.0//EN
CALSCALE:GREGORIAN
METHOD:PUBLISH
X-ORIGINAL-URL:https://www.gohpn.com.au
X-WR-CALDESC:Events for Goldfields Health Professional Network
REFRESH-INTERVAL;VALUE=DURATION:PT1H
X-Robots-Tag:noindex
X-PUBLISHED-TTL:PT1H
BEGIN:VTIMEZONE
TZID:Asia/Shanghai
BEGIN:STANDARD
TZOFFSETFROM:+0800
TZOFFSETTO:+0800
TZNAME:CST
DTSTART:20190101T000000
END:STANDARD
END:VTIMEZONE
BEGIN:VEVENT
DTSTART;TZID=Asia/Shanghai:20200827T170000
DTEND;TZID=Asia/Shanghai:20200827T180000
DTSTAMP:20260425T211119
CREATED:20200818T073928Z
LAST-MODIFIED:20200818T073928Z
UID:10001249-1598547600-1598551200@www.gohpn.com.au
SUMMARY:ACRRM webinar | ePrescribing Q&A
DESCRIPTION:Thursday 27 August 2020\n5:00pm (WST) \nWhat do you know about ePrescriptions? Register now for the the ACRRM ePrescribing webinar to hear from members about their experiences with trialling electronic prescriptions in their communities. \nHosted by FACRRM Dr Andrew Jamieson\, this interactive webinar will provide an overview of how ePrescribing works\, followed by a discussion with panel members: ACRRM President Dr Ewen McPhee\, FACRRM Dr John Kelly and pharmacists from the Australian Digital Health Agency\, who will answer your questions. \nRegister here.
URL:https://www.gohpn.com.au/event/acrrm-webinar-eprescribing-qa/
LOCATION:WA\, Australia
CATEGORIES:Health
END:VEVENT
END:VCALENDAR