BEGIN:VCALENDAR
VERSION:2.0
PRODID:-//Goldfields Health Professional Network - ECPv6.15.20//NONSGML v1.0//EN
CALSCALE:GREGORIAN
METHOD:PUBLISH
X-ORIGINAL-URL:https://www.gohpn.com.au
X-WR-CALDESC:Events for Goldfields Health Professional Network
REFRESH-INTERVAL;VALUE=DURATION:PT1H
X-Robots-Tag:noindex
X-PUBLISHED-TTL:PT1H
BEGIN:VTIMEZONE
TZID:Asia/Shanghai
BEGIN:STANDARD
TZOFFSETFROM:+0800
TZOFFSETTO:+0800
TZNAME:CST
DTSTART:20190101T000000
END:STANDARD
END:VTIMEZONE
BEGIN:VEVENT
DTSTART;TZID=Asia/Shanghai:20200901T180000
DTEND;TZID=Asia/Shanghai:20200901T190000
DTSTAMP:20260425T212822
CREATED:20200819T065510Z
LAST-MODIFIED:20200819T065510Z
UID:10001251-1598983200-1598986800@www.gohpn.com.au
SUMMARY:WA Health - Contact tracing for COVID-19 & other infections: principles and practice - Videoconference
DESCRIPTION:Tuesday 1 September 2020\n6:00pm-7:00pm\nLocation: City of Albany Civic Room\, 102 North Road Albany (capacity 40)\, light refreshments provided OR Zoom (Register below) \nBy the end of this session you will:\n• Have an overview of the transmission and clinical features of COVID-19 and its public health management in Australia\n• Understand the principles of contact tracing\n• Understand how these principles are applied in the control of COVID-19 and syphilis \nPresenters:\nMs Brenda Kamau\, Senior public health nurse.\nProf Donna Mak\, Public health physician.\nDr Ben Scalley\, Public health physician. \nWho is welcome to attend?\n• ALL doctors\, nurses\, allied health\, aged care\, prison health\, health promotion\, local government staff and anyone who is likely to be involved in the COVID-19 response\n• ALL student health care workers \nRegister here before COB 27 August.
URL:https://www.gohpn.com.au/event/wa-health-contact-tracing-for-covid-19-other-infections-principles-and-practice-videoconference/
LOCATION:WA\, Australia
CATEGORIES:Health
END:VEVENT
END:VCALENDAR