BEGIN:VCALENDAR
VERSION:2.0
PRODID:-//Goldfields Health Professional Network - ECPv6.15.20//NONSGML v1.0//EN
CALSCALE:GREGORIAN
METHOD:PUBLISH
X-WR-CALNAME:Goldfields Health Professional Network
X-ORIGINAL-URL:https://www.gohpn.com.au
X-WR-CALDESC:Events for Goldfields Health Professional Network
REFRESH-INTERVAL;VALUE=DURATION:PT1H
X-Robots-Tag:noindex
X-PUBLISHED-TTL:PT1H
BEGIN:VTIMEZONE
TZID:Asia/Shanghai
BEGIN:STANDARD
TZOFFSETFROM:+0800
TZOFFSETTO:+0800
TZNAME:CST
DTSTART:20190101T000000
END:STANDARD
END:VTIMEZONE
BEGIN:VEVENT
DTSTART;TZID=Asia/Shanghai:20200903T120000
DTEND;TZID=Asia/Shanghai:20200903T130000
DTSTAMP:20260425T224217
CREATED:20200820T075846Z
LAST-MODIFIED:20200820T075846Z
UID:10001253-1599134400-1599138000@www.gohpn.com.au
SUMMARY:Webinar: The ORCHID Study (Optimisation of Rural Clinical and Haematological Indicators of Diabetes)
DESCRIPTION:The South West Health Research Collaborative (SWHRC) invites you to join us for a webinar on Thursday 3 September 2020 from 12pm – 1pm. \nHost: Dianne Ritson\, CEO\, Lishman Health Foundation\nChair: Professor Gary Geelhold\, Executive Director of the Western Australian Health Telehealth Translation Network (WAHTN)\nPresenters: Dr Andrew Kirke and Emma Jamieson – South West Gestational Diabetes Research Team \nRegister here. \nDue to the potential to improve birth outcomes for mothers and babies\, screening for gestational diabetes mellitus (GDM)\, defined as high blood sugar levels first detected in pregnancy\, is recommended for pregnant women. The recommended oral glucose tolerance test (OGTT) is difficult to complete\, requiring women to fast overnight\, consume a sugar drink and have three blood tests over two hours. The ORCHID study found that despite completing other antenatal investigations\, half of pregnant women from rural and remote WA did not have an OGTT\, with Aboriginal women even less likely to be screened.\nHear about the findings of this study from Bunbury GP\, Dr Andrew Kirke and the ORCHID study team. \nAfter registering\, you will receive a confirmation email containing information about joining the webinar. \nThe SWHRC is dedicated to maintaining contact with health professionals and investigators who have a strong interest in regional health research\, including those who registered to attend the South West Health Research Forum. Please share the webinar link with your colleagues and networks.
URL:https://www.gohpn.com.au/event/webinar-the-orchid-study-optimisation-of-rural-clinical-and-haematological-indicators-of-diabetes/
LOCATION:WA\, Australia
CATEGORIES:Health
END:VEVENT
END:VCALENDAR