BEGIN:VCALENDAR
VERSION:2.0
PRODID:-//Goldfields Health Professional Network - ECPv6.15.20//NONSGML v1.0//EN
CALSCALE:GREGORIAN
METHOD:PUBLISH
X-WR-CALNAME:Goldfields Health Professional Network
X-ORIGINAL-URL:https://www.gohpn.com.au
X-WR-CALDESC:Events for Goldfields Health Professional Network
REFRESH-INTERVAL;VALUE=DURATION:PT1H
X-Robots-Tag:noindex
X-PUBLISHED-TTL:PT1H
BEGIN:VTIMEZONE
TZID:Asia/Shanghai
BEGIN:STANDARD
TZOFFSETFROM:+0800
TZOFFSETTO:+0800
TZNAME:CST
DTSTART:20180101T000000
END:STANDARD
END:VTIMEZONE
BEGIN:VEVENT
DTSTART;TZID=Asia/Shanghai:20191026T200000
DTEND;TZID=Asia/Shanghai:20191026T220000
DTSTAMP:20260421T160951
CREATED:20190905T030242Z
LAST-MODIFIED:20190905T030242Z
UID:10000948-1572120000-1572127200@www.gohpn.com.au
SUMMARY:Esperance Drag Show
DESCRIPTION:ESPERANCE THE DRAG QUEENS ARE COMING TO TOWN! Enjoy a night of delightful entertainment with a fabulously flamboyant trio of Drag Queens.\nGet set for an evening of fast-paced frivolity\, disco beats and playful banter as the Diva’s strut their stuff in a night of hilarity\, glitter and glamour. \n✖ 3 DRAG QUEENS\n✖ OVER 10 NEW DANCE ACTS + GROUP & GAMES\n✖ 1 BIG MOUTH MC & DJ\n✖ GAMES & PRIZES \nJoin the girls for dance-offs\, games and costumes changes. \nAfter our last shows in Kalgoorlie\, Geraldton\, Byford\, Perth being a sellout\, we hope you are ready for this super fun night! \nTickets include a meet/photos with the Queens.\nDoors open at 8pm show starts at 8:30pm!
URL:https://www.gohpn.com.au/event/esperance-drag-show/
LOCATION:Esperance Bay Turf Club\, Fisheries Road\, Esperance\, WA\, 6450\, Australia
END:VEVENT
END:VCALENDAR