BEGIN:VCALENDAR
VERSION:2.0
PRODID:-//Goldfields Health Professional Network - ECPv6.15.20//NONSGML v1.0//EN
CALSCALE:GREGORIAN
METHOD:PUBLISH
X-ORIGINAL-URL:https://www.gohpn.com.au
X-WR-CALDESC:Events for Goldfields Health Professional Network
REFRESH-INTERVAL;VALUE=DURATION:PT1H
X-Robots-Tag:noindex
X-PUBLISHED-TTL:PT1H
BEGIN:VTIMEZONE
TZID:Asia/Shanghai
BEGIN:STANDARD
TZOFFSETFROM:+0800
TZOFFSETTO:+0800
TZNAME:CST
DTSTART:20180101T000000
END:STANDARD
END:VTIMEZONE
BEGIN:VEVENT
DTSTART;TZID=Asia/Shanghai:20191024T073000
DTEND;TZID=Asia/Shanghai:20191024T083000
DTSTAMP:20260421T160737
CREATED:20190826T041206Z
LAST-MODIFIED:20190826T041206Z
UID:10000939-1571902200-1571905800@www.gohpn.com.au
SUMMARY:Chronic pain management\, morning session - Webinar
DESCRIPTION:Learning objectives\nAt the completion of this webinar\, general practitioners will be able to: \n\nEffectively explain the concepts underlying the experience of chronic pain to patients.\nDescribe a safe approach to chronic pain management which involves non-pharmacological and pharmacological means.\nIdentify on-line resources which are available to assist patients in managing chronic pain.\n\nPresenters:\nProfessor Stephan Schug\, Pain Specialist \nProfessor Moira Sim \nFor your convenience\, the same webinar will be held via Zoom on 2 different dates as follows (please choose one): \nThe Zoom links will appear on your email confirmation\, select the link appropriate to your registration. \nEvening session: Monday 21 October 2019 \n7:30pm-8:30pm: Brief presentation and interactive case discussion\, followed by a Q&A 8:30pm-9:00pm (optional). \nMorning session: Thursday 24 October 2019\n \n7:30am-8:30am: Brief presentation and interactive case discussion\, followed by a Q&A 8:30am-9:00am (optional). \nFor further information\, contact SIRCH@ecu.edu.au or call 08 6304 3557
URL:https://www.gohpn.com.au/event/chronic-pain-management-morning-session-webinar/
LOCATION:VC\, WA\, Australia
CATEGORIES:Health
END:VEVENT
BEGIN:VEVENT
DTSTART;TZID=Asia/Shanghai:20191021T193000
DTEND;TZID=Asia/Shanghai:20191021T203000
DTSTAMP:20260421T160737
CREATED:20190826T040927Z
LAST-MODIFIED:20190826T040927Z
UID:10000937-1571686200-1571689800@www.gohpn.com.au
SUMMARY:Chronic pain management\, evening session -Webinar
DESCRIPTION:Chronic Pain Management\nLearning objectives\nAt the completion of this webinar\, general practitioners will be able to: \n\nEffectively explain the concepts underlying the experience of chronic pain to patients.\nDescribe a safe approach to chronic pain management which involves non-pharmacological and pharmacological means.\nIdentify on-line resources which are available to assist patients in managing chronic pain.\n\nPresenters:\nProfessor Stephan Schug\, Pain Specialist \nProfessor Moira Sim \nFor your convenience\, the same webinar will be held via Zoom on 2 different dates as follows (please choose one): \nThe Zoom links will appear on your email confirmation\, select the link appropriate to your registration. \nEvening session: Monday 21 October 2019 \n7:30pm-8:30pm: Brief presentation and interactive case discussion\, followed by a Q&A 8:30pm-9:00pm (optional). \nMorning session: Thursday 24 October 2019\n \n7:30am-8:30am: Brief presentation and interactive case discussion\, followed by a Q&A 8:30am-9:00am (optional). \nFor further information\, contact SIRCH@ecu.edu.au or call 08 6304 3557
URL:https://www.gohpn.com.au/event/chronic-pain-management-evening-session-webinar/
LOCATION:VC\, WA\, Australia
CATEGORIES:Health
END:VEVENT
END:VCALENDAR